BEGIN:VCALENDAR
VERSION:2.0
PRODID:-//Dole Institute - ECPv6.15.17.1//NONSGML v1.0//EN
CALSCALE:GREGORIAN
METHOD:PUBLISH
X-WR-CALNAME:Dole Institute
X-ORIGINAL-URL:https://doleinstitute.org
X-WR-CALDESC:Events for Dole Institute
REFRESH-INTERVAL;VALUE=DURATION:PT1H
X-Robots-Tag:noindex
X-PUBLISHED-TTL:PT1H
BEGIN:VTIMEZONE
TZID:America/Chicago
BEGIN:DAYLIGHT
TZOFFSETFROM:-0600
TZOFFSETTO:-0500
TZNAME:CDT
DTSTART:20200308T080000
END:DAYLIGHT
BEGIN:STANDARD
TZOFFSETFROM:-0500
TZOFFSETTO:-0600
TZNAME:CST
DTSTART:20201101T070000
END:STANDARD
BEGIN:DAYLIGHT
TZOFFSETFROM:-0600
TZOFFSETTO:-0500
TZNAME:CDT
DTSTART:20210314T080000
END:DAYLIGHT
BEGIN:STANDARD
TZOFFSETFROM:-0500
TZOFFSETTO:-0600
TZNAME:CST
DTSTART:20211107T070000
END:STANDARD
BEGIN:DAYLIGHT
TZOFFSETFROM:-0600
TZOFFSETTO:-0500
TZNAME:CDT
DTSTART:20220313T080000
END:DAYLIGHT
BEGIN:STANDARD
TZOFFSETFROM:-0500
TZOFFSETTO:-0600
TZNAME:CST
DTSTART:20221106T070000
END:STANDARD
END:VTIMEZONE
BEGIN:VEVENT
DTSTART;VALUE=DATE:20210922
DTEND;VALUE=DATE:20211104
DTSTAMP:20260424T030813
CREATED:20220408T164404Z
LAST-MODIFIED:20220713T212754Z
UID:2440-1632268800-1635983999@doleinstitute.org
SUMMARY:2021 FALL | What’s the Matter with American Politics: How Fake News\, Black Women\, COVID-19\, Presidents 45 and 46\, and Protests Might Shape Politics in 2022
DESCRIPTION:The fall 2021 discussion group series will examine how the political issues\, leaders\, and events of the past couple years have brought us to our current political climate and explore how these factors will impact the upcoming 2022 election season. \nDole Fellow Michele L. Watley \nRead more about Dole Fellows >> \nThis program is made possible by a grant from Newman’s Own Foundation \n  \n2020 Politics in Review\n9/22/2021 \n \nWith guest speakers Mindy Brissey and Rashard Young \n  \nSay it Loud – From Protest to Politics\n9/29/2021 \n \nWith guest speakers Justice Horn and Seft Hunter \n  \nTalk Politics to Me\n10/6/2021 \n \nWith guest speakers Julee Jones\, Mary Sanchez\, and Allison Kite \n  \nWho you Wit? – Political Identity Today\n10/13/2021 \n \nWith guest speakers Ravi Perry\, Anoa J. Changa\, and Randy Dunn \n  \nFlipping States\n10/20/2021 \n \nWith guest speakers Congresswoman Sharice Davids\, Representative Turner\, and Phil Scaglia \n  \nA Black Woman’s Place is in Politics\n10/27/2021 \n \nWith guest speakers Melissa Robinson\, Stacey Knoell\, and Rev. Dr. Cassandra Gould \n  \nWar Room 2022- Forecasting the Future of American Politics\n11/3/2021 \n \nWith guest speakers Annie Presley\, Tezlyn Figaro\, Abbie Hodgson\, and Donna Davis \n  \n  \n  \n  \n  \n  \n 
URL:https://doleinstitute.org/event/2021-fall-whats-the-matter-with-american-politics/
CATEGORIES:Discussion Groups
END:VEVENT
END:VCALENDAR