BEGIN:VCALENDAR
VERSION:2.0
PRODID:-//Dole Institute - ECPv6.15.17.1//NONSGML v1.0//EN
CALSCALE:GREGORIAN
METHOD:PUBLISH
X-ORIGINAL-URL:https://doleinstitute.org
X-WR-CALDESC:Events for Dole Institute
REFRESH-INTERVAL;VALUE=DURATION:PT1H
X-Robots-Tag:noindex
X-PUBLISHED-TTL:PT1H
BEGIN:VTIMEZONE
TZID:America/Chicago
BEGIN:DAYLIGHT
TZOFFSETFROM:-0600
TZOFFSETTO:-0500
TZNAME:CDT
DTSTART:20230312T080000
END:DAYLIGHT
BEGIN:STANDARD
TZOFFSETFROM:-0500
TZOFFSETTO:-0600
TZNAME:CST
DTSTART:20231105T070000
END:STANDARD
BEGIN:DAYLIGHT
TZOFFSETFROM:-0600
TZOFFSETTO:-0500
TZNAME:CDT
DTSTART:20240310T080000
END:DAYLIGHT
BEGIN:STANDARD
TZOFFSETFROM:-0500
TZOFFSETTO:-0600
TZNAME:CST
DTSTART:20241103T070000
END:STANDARD
BEGIN:DAYLIGHT
TZOFFSETFROM:-0600
TZOFFSETTO:-0500
TZNAME:CDT
DTSTART:20250309T080000
END:DAYLIGHT
BEGIN:STANDARD
TZOFFSETFROM:-0500
TZOFFSETTO:-0600
TZNAME:CST
DTSTART:20251102T070000
END:STANDARD
END:VTIMEZONE
BEGIN:VEVENT
DTSTART;VALUE=DATE:20240220
DTEND;VALUE=DATE:20240327
DTSTAMP:20260421T212357
CREATED:20240424T190850Z
LAST-MODIFIED:20240612T142255Z
UID:5820-1708387200-1711497599@doleinstitute.org
SUMMARY:2024 SPRING | Obstacles and Opportunities: Tackling Sustainability in Kansas
DESCRIPTION:Our Spring 2024 Discussion Group series\, “Obstacles and Opportunities: Tackling Sustainability in Kansas\,” will be a four-part series moderated by Kansas Rural Center Board Member Karen Willey. The series was created alongside Discussion Group Coordinators Braiden Bangalan and Rachel Creighton by engaging with members of the Dole Institute’s Student Advisory Board to determine which topics related to sustainability in Kansas that students wanted to address. \n  \n \nThis series is presented in partnership with the Kansas Rural Center. \n  \n\n  \nThe Farm Bill: Food and Hunger in the Heartland\nFebruary 20\, 2024 \n \nThe Farm Bill\, a massive omnibus legislation covering a wide range of issues from agricultural practices to SNAP (Supplemental Nutrition Assistance Program)\, is on the docket for this coming year’s Congress. The Farm Bill dictates the most profitable and economical practices for Kansas’s largest industry\, agriculture\, and will shape farming and food stamp policies for the next 5 years. Join us with Senior Agriculture Advisor to Representative Sharice Davids\, Zach Helder\, and Executive Director of Kansas Farmers Union\, Nick Levendofsky\, to discuss the prevailing issues\, debates\, and environmental impact of this highly influential legislation. Karen Willey will lead this semester’s four-part Discussion Group Series. \nThis program is presented in partnership with the Kansas Farmers Union and the KU Department of Political Science. \n  \nSink or Swim: The Future of Water in Kansas\nFebruary 27\, 2024 \n \nWorking lands\, ecosystems\, towns\, and cities all need scarce water resources to survive in an uncertain future. With a plethora of legal battles and competing interests between powerful players\, water access\, quantity\, and quality is a hot topic in Kansas. In discussion with Representatives Lindsay Vaughn and Kenny Titus\, we explore the state of water quantity and quality and the conversations happening within the state. Karen Willey will lead this semester’s four-part Discussion Group Series. \nThis program is presented in partnership with the KU Honors Program. \n  \nPowering the Next Generation: Renewable Energy Options and Hurdles in Kansas\nMarch 19\, 2024 \n \nAs one of the most widely discussed topics with a vast array of stakeholders\, the future of renewable energy in Kansas is unclear. Taking into consideration the environmental and economic impacts of various forms of energy\, we look at what direction Kansas is headed and where it could go. Join us with Climate + Energy Project Program Director Allison Thomas\, Douglas County Planning Commission Chair Gary Rexroad\, Evergy Clean Energy Development Manager Brandon Sack\, and State Geologist of Kansas Jay Kalbas to discuss the future of renewable energy development in Kansas by means of public policy\, community action\, and environmental necessity. Karen Willey will lead this semester’s four-part Discussion Group Series. \n  \nWhere Do We Go Now?: The Politics and Policies of Climate Adaptation in Kansas\nMarch 26\, 2024 \n \nKansas is facing the question of how to create a livable state in the face of climate change. How can rural and urban areas adapt to become more resilient? As the environmental and ecological effects of a changing climate rapidly progress\, local communities and nations alike are finding new solutions to this crisis. Join Douglas County\, Kansas Food Waste Reduction Specialist Jamie Hofling\, Kansas Rural Center Executive Director Tom Buller\, KU Associate Professor Ward Lyles\, and Earthjustice Senior Director Jasmin Moore for this conversation with Dole Fellow Karen Willey. \nThis program is presented in partnership with the KU School of Public Affairs Administration\, and the Department of Environmental Studies.
URL:https://doleinstitute.org/event/spring-2024-obstacles-and-opportunities-tackling-sustainability-in-kansas/
CATEGORIES:Discussion Groups
ATTACH;FMTTYPE=image/png:https://doleinstitute.org/wp-content/uploads/2024/04/SP24-DG_main-graphic.png
ORGANIZER;CN="The Dole Institute of Politics":MAILTO:doleinstitute@ku.edu
END:VEVENT
END:VCALENDAR