BEGIN:VCALENDAR
VERSION:2.0
PRODID:-//Dole Institute - ECPv6.15.17.1//NONSGML v1.0//EN
CALSCALE:GREGORIAN
METHOD:PUBLISH
X-WR-CALNAME:Dole Institute
X-ORIGINAL-URL:https://doleinstitute.org
X-WR-CALDESC:Events for Dole Institute
REFRESH-INTERVAL;VALUE=DURATION:PT1H
X-Robots-Tag:noindex
X-PUBLISHED-TTL:PT1H
BEGIN:VTIMEZONE
TZID:America/Chicago
BEGIN:DAYLIGHT
TZOFFSETFROM:-0600
TZOFFSETTO:-0500
TZNAME:CDT
DTSTART:20200308T080000
END:DAYLIGHT
BEGIN:STANDARD
TZOFFSETFROM:-0500
TZOFFSETTO:-0600
TZNAME:CST
DTSTART:20201101T070000
END:STANDARD
BEGIN:DAYLIGHT
TZOFFSETFROM:-0600
TZOFFSETTO:-0500
TZNAME:CDT
DTSTART:20210314T080000
END:DAYLIGHT
BEGIN:STANDARD
TZOFFSETFROM:-0500
TZOFFSETTO:-0600
TZNAME:CST
DTSTART:20211107T070000
END:STANDARD
BEGIN:DAYLIGHT
TZOFFSETFROM:-0600
TZOFFSETTO:-0500
TZNAME:CDT
DTSTART:20220313T080000
END:DAYLIGHT
BEGIN:STANDARD
TZOFFSETFROM:-0500
TZOFFSETTO:-0600
TZNAME:CST
DTSTART:20221106T070000
END:STANDARD
END:VTIMEZONE
BEGIN:VEVENT
DTSTART;TZID=America/Chicago:20210203T000000
DTEND;TZID=America/Chicago:20210203T000000
DTSTAMP:20260425T094803
CREATED:20220208T180105Z
LAST-MODIFIED:20220208T180105Z
UID:1913-1612310400-1612310400@doleinstitute.org
SUMMARY:46: The Biden Presidency
DESCRIPTION:Researcher for Richard Ben Cramer’s landmark book What It Takes: The Way to the White House and assistant for several autobiographical books for President-elect Joe Biden\, including his latest\, Promises to Keep\, Mark Zwonitzer will use his in-depth knowledge of the 46th President of the United States to provide us with insight into what can be expected from his administration. \nMark Zwonitzer is an author and documentary filmmaker specializing in American history and politics\, with an emphasis on biography. He has been producing\, directing and/or writing acclaimed documentaries for PBS for more than twenty-five years. He is the writer of the Emmy-winning JFK: Like No Other\, and a four-hour Emmy-nominated biography of Walt Disney. His work in television has been honored with the George Foster Peabody Award\, the Writers Guild Award\, and numerous Primetime Emmy nominations. From 1986 to 1992 Zwonitzer reported the book What It Takes: The Way to the White House with author Richard Ben Cramer. What it Takes was recognized by New York University as one of the Top 100 works of Journalism of the 20th century. He also assisted President Joseph R. Biden\, Jr.\, in his two books: Promises to Keep and Promise Me\, Dad.
URL:https://doleinstitute.org/event/46-the-biden-presidency/
CATEGORIES:Dole Forum
END:VEVENT
END:VCALENDAR