BEGIN:VCALENDAR
VERSION:2.0
PRODID:-//Dole Institute - ECPv6.15.17.1//NONSGML v1.0//EN
CALSCALE:GREGORIAN
METHOD:PUBLISH
X-ORIGINAL-URL:https://doleinstitute.org
X-WR-CALDESC:Events for Dole Institute
REFRESH-INTERVAL;VALUE=DURATION:PT1H
X-Robots-Tag:noindex
X-PUBLISHED-TTL:PT1H
BEGIN:VTIMEZONE
TZID:America/Chicago
BEGIN:DAYLIGHT
TZOFFSETFROM:-0600
TZOFFSETTO:-0500
TZNAME:CDT
DTSTART:20200308T080000
END:DAYLIGHT
BEGIN:STANDARD
TZOFFSETFROM:-0500
TZOFFSETTO:-0600
TZNAME:CST
DTSTART:20201101T070000
END:STANDARD
BEGIN:DAYLIGHT
TZOFFSETFROM:-0600
TZOFFSETTO:-0500
TZNAME:CDT
DTSTART:20210314T080000
END:DAYLIGHT
BEGIN:STANDARD
TZOFFSETFROM:-0500
TZOFFSETTO:-0600
TZNAME:CST
DTSTART:20211107T070000
END:STANDARD
BEGIN:DAYLIGHT
TZOFFSETFROM:-0600
TZOFFSETTO:-0500
TZNAME:CDT
DTSTART:20220313T080000
END:DAYLIGHT
BEGIN:STANDARD
TZOFFSETFROM:-0500
TZOFFSETTO:-0600
TZNAME:CST
DTSTART:20221106T070000
END:STANDARD
END:VTIMEZONE
BEGIN:VEVENT
DTSTART;TZID=America/Chicago:20210309T000000
DTEND;TZID=America/Chicago:20210309T000000
DTSTAMP:20260425T081522
CREATED:20220208T180002Z
LAST-MODIFIED:20220208T180002Z
UID:1914-1615248000-1615248000@doleinstitute.org
SUMMARY:Historians on “Hamilton”: How a Blockbuster Musical Is Restaging America’s Past
DESCRIPTION:America has gone Hamilton crazy. Lin-Manuel Miranda’s Tony-winning musical has spawned sold-out performances\, a triple platinum cast album\, and a score so catchy that it is being used to teach U.S. history in classrooms across the country. But just how historically accurate is Hamilton? And how is the show itself making history? Our guests examine what the musical got right\, what it got wrong\, and why it matters. \nClaire Bond Potter is Professor of History at The New School for Social Research\, New York\, NY\, and co-Executive Editor of Public Seminar\, a digital journal of ideas and culture aimed at a general audience. Her writing has appeared in general audience publications such The New York Times\, The Washington Post\, Jacobin\, The Bulwark\, and Dissent. \nRenee C. Romano is the Robert S. Danforth Professor of History and Professor of Comparative American Studies and Africana Studies at Oberlin College in Ohio. A specialist in twentieth and twenty-first century American cultural and political history and in the field of historical memory\, she is the author of Racial Reckoning; Reopening America’s Civil Rights Trials and Race Mixing: Black-White Marriage in Postwar America.
URL:https://doleinstitute.org/event/historians-on-hamilton-how-a-blockbuster-musical-is-restaging-americas-past/
CATEGORIES:Dole Forum
END:VEVENT
BEGIN:VEVENT
DTSTART;TZID=America/Chicago:20210316T000000
DTEND;TZID=America/Chicago:20210316T000000
DTSTAMP:20260425T081522
CREATED:20220208T175822Z
LAST-MODIFIED:20220208T175822Z
UID:1915-1615852800-1615852800@doleinstitute.org
SUMMARY:“UnRepresented” – Documentary Screening & Filmmaker Q&A
DESCRIPTION:UnRepresented is an award-winning documentary that uncovers the mechanisms that drive the cycle of corruption in Congress—giving political insiders enormous\, unchecked power. The film explores how special interests bankroll political campaigns and relentlessly lobby to rig the system in their favor\, all while following the letter of the law. Dole Institute audience members can take part in an exclusive viewing of the documentary before its debut on PBS. During a follow-up event\, a panel of experts will discuss the problems highlighted in the documentary\, and the audience will have the opportunity to ask questions of the panel. \nThe panel features the panel will feature UnRepresented filmmaker Andrew Rodney\, businessman and leading voice of the Independent Movement Greg Orman\, and Mary Banwart\, an expert in political campaign communication at the Department of Communications at KU. The live online discussion will highlight influences in campaigns and politics\, current reform efforts\, and filmmaker insights on the making of the film. \n 
URL:https://doleinstitute.org/event/unrepresented-documentary-screening-filmmaker-qa/
CATEGORIES:Dole Forum
END:VEVENT
BEGIN:VEVENT
DTSTART;TZID=America/Chicago:20210323T000000
DTEND;TZID=America/Chicago:20210323T000000
DTSTAMP:20260425T081522
CREATED:20220208T175713Z
LAST-MODIFIED:20220208T175723Z
UID:1916-1616457600-1616457600@doleinstitute.org
SUMMARY:Birch Bayh: Making a Difference
DESCRIPTION:Author Robert Blaemire will share insights from his book\, a biography of Senator Birch Bayh. Bayh served the people of Indiana for over 25 years and sponsored landmark legislation throughout his career\, including the Bayh-Dole Act. The bill\, co-sponsored with Senator Bob Dole\, changed the way inventions created through federal research and development could be licensed by the private sector. \nRobert Blaemire has been an active participant in politics all of his adult life. Born and raised in Indiana\, his career began at the age of 18 upon entering George Washington University. His employment with Senator Birch Bayh (D-IN) began in 1967 during Bob’s freshman year and concluded with Bayh’s unsuccessful re-election campaign in 1980. In 1991\, Bob created Blaemire Communications\, a political computer services firm serving Democratic campaigns\, progressive organizations\, and political consultants. \n \n 
URL:https://doleinstitute.org/event/birch-bayh-making-a-difference/
CATEGORIES:Dole Forum
END:VEVENT
END:VCALENDAR