BEGIN:VCALENDAR
VERSION:2.0
PRODID:-//Dole Institute - ECPv6.15.17.1//NONSGML v1.0//EN
CALSCALE:GREGORIAN
METHOD:PUBLISH
X-ORIGINAL-URL:https://doleinstitute.org
X-WR-CALDESC:Events for Dole Institute
REFRESH-INTERVAL;VALUE=DURATION:PT1H
X-Robots-Tag:noindex
X-PUBLISHED-TTL:PT1H
BEGIN:VTIMEZONE
TZID:America/Chicago
BEGIN:DAYLIGHT
TZOFFSETFROM:-0600
TZOFFSETTO:-0500
TZNAME:CDT
DTSTART:20210314T080000
END:DAYLIGHT
BEGIN:STANDARD
TZOFFSETFROM:-0500
TZOFFSETTO:-0600
TZNAME:CST
DTSTART:20211107T070000
END:STANDARD
BEGIN:DAYLIGHT
TZOFFSETFROM:-0600
TZOFFSETTO:-0500
TZNAME:CDT
DTSTART:20220313T080000
END:DAYLIGHT
BEGIN:STANDARD
TZOFFSETFROM:-0500
TZOFFSETTO:-0600
TZNAME:CST
DTSTART:20221106T070000
END:STANDARD
BEGIN:DAYLIGHT
TZOFFSETFROM:-0600
TZOFFSETTO:-0500
TZNAME:CDT
DTSTART:20230312T080000
END:DAYLIGHT
BEGIN:STANDARD
TZOFFSETFROM:-0500
TZOFFSETTO:-0600
TZNAME:CST
DTSTART:20231105T070000
END:STANDARD
END:VTIMEZONE
BEGIN:VEVENT
DTSTART;TZID=America/Chicago:20220308T190000
DTEND;TZID=America/Chicago:20220308T190000
DTSTAMP:20260424T123416
CREATED:20220215T155323Z
LAST-MODIFIED:20220408T165221Z
UID:2065-1646766000-1646766000@doleinstitute.org
SUMMARY:The Last Liberal Republican
DESCRIPTION:“The Last Liberal Republican”\nJohn Roy Price \nTuesday\, March 8\, 2022 | 7 p.m.\nJoin us March 8 at 7 p.m. when author John Roy Price will discuss his book “The Last Liberal Republican: An Insider’s Perspective on Nixon’s Surprising Social Policy.” During the first Nixon administration\, John Roy Price was special assistant to the president of the United States and executive secretary of the Council for Urban Affairs and the Council for Rural Affairs. Price places Nixon firmly in the liberal Republican tradition of President Theodore Roosevelt\, New York governor Thomas E. Dewey\, and President Dwight Eisenhower \nPrice makes a valuable contribution to political scholarship and our understanding of the Nixon presidency. \nAfter the program\, there will be a book sale and signing. Price’s memoir is published with the University Press of Kansas. \nJoin us in person or livestream the event on our YouTube channel.
URL:https://doleinstitute.org/event/the-last-liberal-republican/
LOCATION:The Dole Institute of Politics\, 2350 Petefish Drive\, Lawrence\, KS\, 66045\, United States
CATEGORIES:Dole Forum
ATTACH;FMTTYPE=image/png:https://doleinstitute.org/wp-content/uploads/2022/02/PrinceHeader-e1644940374921.png
ORGANIZER;CN="The Dole Institute of Politics":MAILTO:doleinstitute@ku.edu
END:VEVENT
END:VCALENDAR