BEGIN:VCALENDAR
VERSION:2.0
PRODID:-//Dole Institute - ECPv6.15.17.1//NONSGML v1.0//EN
CALSCALE:GREGORIAN
METHOD:PUBLISH
X-ORIGINAL-URL:https://doleinstitute.org
X-WR-CALDESC:Events for Dole Institute
REFRESH-INTERVAL;VALUE=DURATION:PT1H
X-Robots-Tag:noindex
X-PUBLISHED-TTL:PT1H
BEGIN:VTIMEZONE
TZID:America/Chicago
BEGIN:DAYLIGHT
TZOFFSETFROM:-0600
TZOFFSETTO:-0500
TZNAME:CDT
DTSTART:20220313T080000
END:DAYLIGHT
BEGIN:STANDARD
TZOFFSETFROM:-0500
TZOFFSETTO:-0600
TZNAME:CST
DTSTART:20221106T070000
END:STANDARD
BEGIN:DAYLIGHT
TZOFFSETFROM:-0600
TZOFFSETTO:-0500
TZNAME:CDT
DTSTART:20230312T080000
END:DAYLIGHT
BEGIN:STANDARD
TZOFFSETFROM:-0500
TZOFFSETTO:-0600
TZNAME:CST
DTSTART:20231105T070000
END:STANDARD
BEGIN:DAYLIGHT
TZOFFSETFROM:-0600
TZOFFSETTO:-0500
TZNAME:CDT
DTSTART:20240310T080000
END:DAYLIGHT
BEGIN:STANDARD
TZOFFSETFROM:-0500
TZOFFSETTO:-0600
TZNAME:CST
DTSTART:20241103T070000
END:STANDARD
END:VTIMEZONE
BEGIN:VEVENT
DTSTART;TZID=America/Chicago:20230913T190000
DTEND;TZID=America/Chicago:20230913T201500
DTSTAMP:20260423T035802
CREATED:20230829T210435Z
LAST-MODIFIED:20230905T190914Z
UID:4188-1694631600-1694636100@doleinstitute.org
SUMMARY:Chaos on the Campaign Trail: Inside a Tumultuous Race for the White House
DESCRIPTION:A GOP frontrunner under the cloud of legal peril is trying to stave off a crowded primary field and maintain his hold over a divided party. An incumbent president faces questions about his age and an uncertain economy. As the Republican primary hits its stride\, can anyone stop Donald Trump? And what does President Biden need to do to earn a second term? The race for the White House in 2024 promises to be an election unlike we’ve ever seen. Join us as we examine the state of the campaign with two prominent political journalists – Ali Vitali of NBC News and the Associated Press’s Seung Min Kim – in a conversation moderated by Brendan Buck\, NBC News Political Analyst and former top aide to House Speaker Paul Ryan and John Boehner. These insiders will help pull back the curtain and examine the questions that will determine who controls the White House in 2025. \nBrendan Buck is a Partner at Seven Letter\, a Washington and Boston based public affairs agency\, and he is an NBC News on-air Political Analyst. He spent twelve years on Capitol Hill\, serving as a top aide to two consecutive Speakers of the House. Brendan was Counselor to House Speaker Paul Ryan\, leading messaging and communications strategy for the speaker and House GOP. And earlier\, Brendan was Press Secretary to House Speaker John Boehner. Brendan was also on the 2012 Romney-Ryan presidential campaign\, serving as Press Secretary to the Vice President nominee. He’s held several other senior communications roles on Capitol Hill\, including for now-Speaker Kevin McCarthy. In 2017\, POLITICO named him to its inaugural Power 30 list\, and in 2020\, PR Week named him to its annual ’40 Under 40’. \nAli Vitali is a Capitol Hill correspondent for NBC News based in Washington\, D.C. Vitali has reported on both President Biden and Vice President Harris throughout the 2020 campaign trail and through inauguration\, cabinet appointments and confirmations. In February 2023\, Vitali sat down with former President Mike Pence in an exclusive broadcast interview ahead of the 2024 presidential election and her continued coverage of the GOP field. As an NBC News “Road Warrior” in 2020\, Vitali followed and reported on the campaigns of Sen. Elizabeth Warren\, Sen. Amy Klobuchar and Michael Bloomberg during the Democratic primary contests. She previously covered the Trump Administration as a White House Reporter for NBC News Digital and was a political campaign embed reporter on Donald Trump’s 2016 presidential campaign. \nSeung Min Kim is a White House reporter for The Associated Press\, specializing in the nexus of the Biden administration and Capitol Hill. Before joining the AP in July 2022\, she had the same beat at The Washington Post\, where she led the publication’s coverage on President Biden’s legislative agenda\, Donald Trump’s relationships – and battles – with Congress\, and three Supreme Court confirmation fights. She has also served as a political analyst for CNN since 2018. Seung Min’s first major reporting role in Washington was as a congressional reporter for Politico\, where she spent more than eight years and primarily covered the Senate. She has also worked at USA Today; The Star-Ledger of Newark\, N.J.; the St. Paul Pioneer Press; the St. Petersburg Times and The Des Moines Register. She is the current president of the Washington Press Club Foundation and a longtime member of the Asian American Journalists Association. \nThis program is presented in partnership with KU’s Debate Team and the Institute for Leadership Studies. \nThe Robert J. Dole Institute of Politics is dedicated to promoting political and civic participation as well as civil discourse in a bipartisan\, philosophically balanced manner. It is located on KU’s West Campus and houses the Dole Archive and Special Collections. Through its robust public programming\, congressional archive\, and museum\, the Dole Institute strives to celebrate public service and the legacies of US Senators Bob Dole and Elizabeth Dole.
URL:https://doleinstitute.org/event/chaos-on-the-campaign-trail-inside-a-tumultuous-race-for-the-white-house/
LOCATION:The Dole Institute of Politics\, 2350 Petefish Drive\, Lawrence\, KS\, 66045\, United States
CATEGORIES:Dole Forum
ATTACH;FMTTYPE=image/png:https://doleinstitute.org/wp-content/uploads/2023/08/GOP-event-Website-Graphic-updated.png
END:VEVENT
BEGIN:VEVENT
DTSTART;TZID=America/Chicago:20230926T190000
DTEND;TZID=America/Chicago:20230926T201500
DTSTAMP:20260423T035802
CREATED:20230911T163000Z
LAST-MODIFIED:20230920T151104Z
UID:4245-1695754800-1695759300@doleinstitute.org
SUMMARY:The 2023 Annual Constitution Day Program: "Speech\, Guns\, and Federal Power"
DESCRIPTION:In recent years\, the U.S. Supreme Court has reshaped key aspects of American law\, including First Amendment speech protections\, firearms regulation under the Second Amendment\, and the Executive Branch’s powers to implement laws. The Court appears poised to continue reshaping these fields in the coming term through a set of potentially transformative cases. In observation of Constitution Day\, Associate Director Dr. Barbara Ballard will lead a panel of emerging leaders in the legal profession – each of whom are former Dole Institute SAB members – to discuss these changes and how they see the profession evolving in the coming years. \nAdam Steinhilber is an attorney from Overland Park\, Kansas who recently finished clerking for the Honorable Timothy M. Tymkovich of the U.S. Court of Appeals for the Tenth Circuit. He previously clerked for the Honorable Mark S. Massa of the Indiana Supreme Court. He earned his J.D.\, magna cum laude\, from the University of Michigan Law School\, where he was elected to the Order of the Coif and chaired the Federalist Society’s 39th annual National Student Symposium. He earned his B.A. in Political Science with honors from the University of Kansas\, where he was elected to Phi Beta Kappa and proudly served as the Events Student Assistant at the Dole Institute of Politics. This fall\, he will join the Kansas City office of Bryan Cave Leighton Paisner LLP as a litigation associate. \nEmily Depew is a research attorney with the Kansas Court of Appeals. Emily hails from Neodesha\, Kansas. She graduated from the University of Kansas School of Law in 2023. At KU Law\, Emily was a three-time moot court national champion and was presented with one of the best speakers awards two years in a row at the moot court national championship competition. She worked as the Dole Institute Student Advisory Board coordinator for two years as an undergraduate at KU. Emily has also worked as a legislative fellow at the Kansas Revisor of Statutes office\, a legal intern at the U.S. Department of Transportation\, and a legal intern for Kansas Representative Barbara Ballard. \nJesse Burbank hails from Quinter\, Kansas\, and grew up moving around the world in a military family. He earned his bachelor’s degree with highest distinction in history and political science from the University of Kansas in 2017. He was a member of the Dole Institute Student Advisory Board\, and he served as Dole Institute Director Bill Lacy’s research assistant during his senior year. Jesse earned his law degree with honors from Harvard Law School in 2020\, where he was an editor of the Harvard International Law Journal. While in law school\, he served as a summer legal intern in the United States Supreme Court Office of Legal Counsel. He worked in private practice after law school at the law firm Sidley Austin LLP in Chicago before joining the U.S. Army JAG Corps in late 2022. He is now a Captain in the U.S. Army and serves as a Special Victims’ Counsel at Fort Riley\, representing survivors of sexual assault and related offenses throughout the military justice process. \nLearn more about the Dole Institute’s Constitution Day programs here! \nThe Dole Institute’s Constitution Day program is made possible by the support of longtime Friend of the Dole Institute\, Mark P. Johnson.
URL:https://doleinstitute.org/event/2023-constitution-day-program/
LOCATION:The Dole Institute of Politics\, 2350 Petefish Drive\, Lawrence\, KS\, 66045\, United States
CATEGORIES:Civic Engagement,Dole Forum
ATTACH;FMTTYPE=image/png:https://doleinstitute.org/wp-content/uploads/2023/09/3.png
ORGANIZER;CN="The Dole Institute of Politics":MAILTO:doleinstitute@ku.edu
END:VEVENT
END:VCALENDAR