BEGIN:VCALENDAR
VERSION:2.0
PRODID:-//Dole Institute - ECPv6.15.17.1//NONSGML v1.0//EN
CALSCALE:GREGORIAN
METHOD:PUBLISH
X-WR-CALNAME:Dole Institute
X-ORIGINAL-URL:https://doleinstitute.org
X-WR-CALDESC:Events for Dole Institute
REFRESH-INTERVAL;VALUE=DURATION:PT1H
X-Robots-Tag:noindex
X-PUBLISHED-TTL:PT1H
BEGIN:VTIMEZONE
TZID:America/Chicago
BEGIN:DAYLIGHT
TZOFFSETFROM:-0600
TZOFFSETTO:-0500
TZNAME:CDT
DTSTART:20220313T080000
END:DAYLIGHT
BEGIN:STANDARD
TZOFFSETFROM:-0500
TZOFFSETTO:-0600
TZNAME:CST
DTSTART:20221106T070000
END:STANDARD
BEGIN:DAYLIGHT
TZOFFSETFROM:-0600
TZOFFSETTO:-0500
TZNAME:CDT
DTSTART:20230312T080000
END:DAYLIGHT
BEGIN:STANDARD
TZOFFSETFROM:-0500
TZOFFSETTO:-0600
TZNAME:CST
DTSTART:20231105T070000
END:STANDARD
BEGIN:DAYLIGHT
TZOFFSETFROM:-0600
TZOFFSETTO:-0500
TZNAME:CDT
DTSTART:20240310T080000
END:DAYLIGHT
BEGIN:STANDARD
TZOFFSETFROM:-0500
TZOFFSETTO:-0600
TZNAME:CST
DTSTART:20241103T070000
END:STANDARD
END:VTIMEZONE
BEGIN:VEVENT
DTSTART;TZID=America/Chicago:20231010T190000
DTEND;TZID=America/Chicago:20231010T201500
DTSTAMP:20260423T021406
CREATED:20230920T200234Z
LAST-MODIFIED:20231010T170028Z
UID:4383-1696964400-1696968900@doleinstitute.org
SUMMARY:Taylor Swift: A Conversation on Influence & Advocacy
DESCRIPTION:Global superstar Taylor Swift is on top of the world with a massive and Fearless fanbase behind her. Join us for an Enchanted evening of merging music\, politics\, and activism as KU Professor Dr. Brian Donovan and Wichita State University Assistant Professor Dr. Hannah Wing discuss Swift’s journey into the world of politics and social activism as well as what politicians can learn from her uniquely powerful influence. Are you ready for it? \nWear your friendship bracelets and your Swiftie merch! \n  \nImportant Information for Attending This Program \nDue to an expected large turnout for this event\, we are taking some additional steps. \n\n\n\nDoors for this event will open at 6:15 p.m.\nMembers of the public are encouraged to arrive early to secure their seat\n\n\n\nShould you not be admitted for this program\, please be aware that it will be live streamed on our YouTube Channel starting at 7 p.m. CST. This program will also be available to stream afterward. \n  \nKU students may come early for a pizza party with Taylor Swift music and cookies starting at 6 p.m.  \nDr. Brian Donovan is a professor in the KU Department of Sociology. Donovan’s research focuses on gender and American culture. His latest book\, American Gold Digger\, examines the “gold digger” stereotype in American culture. Donovan is currently interviewing Swifties for a book about the Taylor Swift fandom and is teaching a Taylor Swift-focused course called “The Sociology of Taylor Swift” this semester. \nDr. Hannah Wing is an Assistant Professor in the Elliott School of Communications at Wichita State University. Her research is centered on examining the relationships between media consumers and media personae\, including how fans are influenced by the behavior of celebrities. She is currently researching the experiences Taylor Swift fans had while trying to obtain tickets to The Eras Tour. \nThis program is presented in partnership with the KU Swift Society.
URL:https://doleinstitute.org/event/taylor-swift-a-conversation-on-influence-advocacy/
LOCATION:The Dole Institute of Politics\, 2350 Petefish Drive\, Lawrence\, KS\, 66045\, United States
CATEGORIES:The SAB Presents
ATTACH;FMTTYPE=image/png:https://doleinstitute.org/wp-content/uploads/2023/09/Taylor-Swift-Website_Youtube.png
ORGANIZER;CN="The Dole Institute of Politics":MAILTO:doleinstitute@ku.edu
END:VEVENT
BEGIN:VEVENT
DTSTART;TZID=America/Chicago:20231024T190000
DTEND;TZID=America/Chicago:20231024T201500
DTSTAMP:20260423T021406
CREATED:20230925T161209Z
LAST-MODIFIED:20231025T151356Z
UID:4401-1698174000-1698178500@doleinstitute.org
SUMMARY:A Question of Respect: Bringing Us Together in a Deeply Divided Nation
DESCRIPTION:Celinda Lake\, a Democrat\, and Ed Goeas\, a Republican\, have been crossing party lines for more than three decades to produce the Battleground Poll that takes a bipartisan look at America and its politics. Now they have co-authored a book that draws on what they have learned to describe how America has reached its current\, deeply fractured political condition and\, more importantly\, how the country might move beyond it. These two leading political practitioners will be at the Dole Institute to discuss their work\, including their central argument that the only way to escape the current polarization is through mutual respect. \nJerry Seib has been a journalist with The Wall Street Journal for almost 45 years. He served as the Journal’s Executive Washington Editor and wrote the weekly “Capital Journal” column for 29 years. He also reported from the Middle East for the Journal in the mid-1980s\, covered the White House\, has moderated three presidential debates\, and interviewed every president since Ronald Reagan. \nCelinda Lake was one of two main pollsters for the Biden campaign\, is the only Democratic pollster to play a major role in defeating two incumbent presidents\, and is a prominent pollster and political strategist for progressives. Celinda currently serves as President of Lake Research Partners. Lake’s polling and strategic advice has helped candidates such as Representative Alexandria Ocasio-Cortez to groundbreaking wins. Lake co-authored the book What Women Really Want with Republican pollster Kellyanne Conway. \nEd Goeas was President and C.E.O. of The Tarrance Group for thirty-five years\, one of the most respected and successful Republican survey research and strategy teams in American politics today. Widely recognized as one of the country’s leading political strategists\, Goeas is an often-sought-after consultant and strategist. In Fall 2018\, Ed served as a Fellow at Georgetown University’s Institute of Politics and Public Service focusing on “Civility in Politics.” In April Goeas was inducted into the American Association of Political Consultants “Hall of Fame.” \n  \nTo purchase a copy of “A Question of Respect: Bringing Us Together in a Deeply Divided Nation\,” please click this link. \nFor those who purchase the book in advance\, there will be an opportunity for Ed Goeas and Celinda Lake to sign the book after the program.
URL:https://doleinstitute.org/event/a-question-of-respect-bringing-us-together-in-a-deeply-divided-nation/
LOCATION:The Dole Institute of Politics\, 2350 Petefish Drive\, Lawrence\, KS\, 66045\, United States
CATEGORIES:Dole Forum
ATTACH;FMTTYPE=image/png:https://doleinstitute.org/wp-content/uploads/2023/09/Bringing-Us-Together-in-a-Deeply-Divided-Nation-1.png
ORGANIZER;CN="The Dole Institute of Politics":MAILTO:doleinstitute@ku.edu
END:VEVENT
END:VCALENDAR