BEGIN:VCALENDAR
VERSION:2.0
PRODID:-//Dole Institute - ECPv6.15.17.1//NONSGML v1.0//EN
CALSCALE:GREGORIAN
METHOD:PUBLISH
X-ORIGINAL-URL:https://doleinstitute.org
X-WR-CALDESC:Events for Dole Institute
REFRESH-INTERVAL;VALUE=DURATION:PT1H
X-Robots-Tag:noindex
X-PUBLISHED-TTL:PT1H
BEGIN:VTIMEZONE
TZID:America/Chicago
BEGIN:DAYLIGHT
TZOFFSETFROM:-0600
TZOFFSETTO:-0500
TZNAME:CDT
DTSTART:20230312T080000
END:DAYLIGHT
BEGIN:STANDARD
TZOFFSETFROM:-0500
TZOFFSETTO:-0600
TZNAME:CST
DTSTART:20231105T070000
END:STANDARD
BEGIN:DAYLIGHT
TZOFFSETFROM:-0600
TZOFFSETTO:-0500
TZNAME:CDT
DTSTART:20240310T080000
END:DAYLIGHT
BEGIN:STANDARD
TZOFFSETFROM:-0500
TZOFFSETTO:-0600
TZNAME:CST
DTSTART:20241103T070000
END:STANDARD
BEGIN:DAYLIGHT
TZOFFSETFROM:-0600
TZOFFSETTO:-0500
TZNAME:CDT
DTSTART:20250309T080000
END:DAYLIGHT
BEGIN:STANDARD
TZOFFSETFROM:-0500
TZOFFSETTO:-0600
TZNAME:CST
DTSTART:20251102T070000
END:STANDARD
END:VTIMEZONE
BEGIN:VEVENT
DTSTART;TZID=America/Chicago:20240904T190000
DTEND;TZID=America/Chicago:20240904T201500
DTSTAMP:20260422T045554
CREATED:20240814T134542Z
LAST-MODIFIED:20240827T201958Z
UID:6834-1725476400-1725480900@doleinstitute.org
SUMMARY:The Lie Detectives: An Evening with Sasha Issenberg
DESCRIPTION:As political campaigns around the world are ready for the busiest election year in human history\, and few issues are as urgent for candidates and parties as how to handle the barrage of online disinformation. Veteran political reporter Sasha Issenberg visits the Dole Institute for a conversation on his new book\, The Lie Detectives: In Search for a Playbook for Winning Elections in the Disinformation Age\, which explores how the new online landscape has forced those who run campaigns to rethink everything they thought they knew about how to reach and move voters. \n  \n     \nThis program is presented in partnership with the Lawrence Public Library and the KU Honors Program. \n  \n\n  \nSasha Issenberg is a journalist and the author of four previous books\, including The Victory Lab: The Secret Science of Winning Campaigns and\, most recently\, The Engagement: America’s Quarter-Century Struggle Over Same-Sex Marriage. He is a correspondent for Monocle\, and has written for New York\, the New York Times Magazine\, Bloomberg Businessweek\, and Politico Magazine. He teaches in the UCLA Department of Political Science. \n  \n \nThe Lie Detectives: In Search of a Playbook for Winning Elections in the Disinformation Age is the story of the hitherto unknown political operatives who have been leading the political class as it grapples the problem of how to handle online disinformation—or use it to their own advantage—in a vexing challenge that unites campaigners worldwide. \nThe author will be available after the program for a book signing. You can purchase your copy ahead of time online\, as limited copies will be available for sale at the program.
URL:https://doleinstitute.org/event/the-lie-detectives-an-evening-with-sasha-issenberg/
LOCATION:The Dole Institute of Politics\, 2350 Petefish Drive\, Lawrence\, KS\, 66045\, United States
CATEGORIES:Dole Forum
ATTACH;FMTTYPE=image/png:https://doleinstitute.org/wp-content/uploads/2024/08/sasha-isenberg_ytwebsite-1.png
ORGANIZER;CN="The Dole Institute of Politics":MAILTO:doleinstitute@ku.edu
END:VEVENT
END:VCALENDAR