BEGIN:VCALENDAR
VERSION:2.0
PRODID:-//Dole Institute - ECPv6.15.17.1//NONSGML v1.0//EN
CALSCALE:GREGORIAN
METHOD:PUBLISH
X-ORIGINAL-URL:https://doleinstitute.org
X-WR-CALDESC:Events for Dole Institute
REFRESH-INTERVAL;VALUE=DURATION:PT1H
X-Robots-Tag:noindex
X-PUBLISHED-TTL:PT1H
BEGIN:VTIMEZONE
TZID:America/Chicago
BEGIN:DAYLIGHT
TZOFFSETFROM:-0600
TZOFFSETTO:-0500
TZNAME:CDT
DTSTART:20230312T080000
END:DAYLIGHT
BEGIN:STANDARD
TZOFFSETFROM:-0500
TZOFFSETTO:-0600
TZNAME:CST
DTSTART:20231105T070000
END:STANDARD
BEGIN:DAYLIGHT
TZOFFSETFROM:-0600
TZOFFSETTO:-0500
TZNAME:CDT
DTSTART:20240310T080000
END:DAYLIGHT
BEGIN:STANDARD
TZOFFSETFROM:-0500
TZOFFSETTO:-0600
TZNAME:CST
DTSTART:20241103T070000
END:STANDARD
BEGIN:DAYLIGHT
TZOFFSETFROM:-0600
TZOFFSETTO:-0500
TZNAME:CDT
DTSTART:20250309T080000
END:DAYLIGHT
BEGIN:STANDARD
TZOFFSETFROM:-0500
TZOFFSETTO:-0600
TZNAME:CST
DTSTART:20251102T070000
END:STANDARD
END:VTIMEZONE
BEGIN:VEVENT
DTSTART;TZID=America/Chicago:20241114T183000
DTEND;TZID=America/Chicago:20241114T200000
DTSTAMP:20260422T020018
CREATED:20240814T134558Z
LAST-MODIFIED:20240917T204453Z
UID:6862-1731609000-1731614400@doleinstitute.org
SUMMARY:The Counselors: Should the Draft Be Reinstated?
DESCRIPTION:Join us for the next edition of The Counselors—an engaging program featuring debates on contemporary topics. This fall\, Dole Institute Visiting Fellows and attorneys Ed Duckers and Pedro Irigonegaray will debate whether or not the military draft should be reinstated in the United States with the assistance of expert witnesses. \nThis program will be moderated by Abbie Clements\, a member of the Dole Institute Student Advisory Board and a Student Events Assistant. She studies political science\, strategic communications\, and history. \n  \n\n  \nAffirming Side\nPedro Irigonegaray is an attorney and partner at Irigonegaray\, Turney\, & Revenaugh. A trial lawyer since 1973\, Pedro is a former President of The Kansas Trial Lawyers Association\, a Fellow in The American College of Trial Lawyers and a Fellow in The International Academy of Trial Lawyers. \nDr. William M. Raymond\, Jr.\, is an assistant professor in the Department of Command and Leadership at the U.S. Army’s Command and General Staff College (CGSC) at Fort Leavenworth\, Kansas. He served in the U.S. Army for 30 years in a wide variety of field artillery and educational assignments\, leading diverse and high-performing teams and organizations. He has more than 22 years’ experience teaching students and developing curriculum at the undergraduate and graduate levels during active duty (at the United States Military Academy (USMA) and CGSC) and civilian service (at Benedictine College and CGSC). He has a BS in Engineering from USMA\, an MMAS from CGSC\, and an MA and Ph.D. in Political Science from the University of Michigan. \nDr. Roosevelt Barfield\, brings a wealth of experience in strategy\, operations\, budget\, training\, management\, and leadership having served as a Professor at Virginia Commonwealth University and an Army Veteran with 32 years of service. A veteran of the Armed Forces\, Brigadier General (retired) Barfield served as a Military Legislative Assistant to the U.S. Senate and held progressive levels of command responsibility with the military. Dr. Barfield holds a Doctorate of Business Administration from Walden University\, a Master’s of Science Degree in Management from Central Michigan University\, and a Bachelor of Arts degree in History from the University of Kansas\, and is a 2013 Dole Fellow. \n  \nNegating Side\nEd Duckers is partner at Stoel Rives LLP and the head of the firm’s Litigation Practice in California and a member of the firm’s Executive Committee. He is a past chair of Stoel Rives’ Food and Agribusiness Industry Team. \nSteve Leonard serves as the Assistant Area Director for Management and Entrepreneurship in the KU School of Business. Prior to joining the faculty in 2015\, he spent nearly thirty years in uniform as a U.S. Army leader\, where he served as a senior military strategist and war planner. A career writer and speaker\, he is the author and co-editor of several books\, including Power Up (Casemate\, 2023)\, To Boldly Go (Casemate\, 2021)\, and the upcoming Professionals Talk Logistics (Howgate\, 2025). \nDebra Sheffer is a Professor of History at Park University in Parkville\, Missouri. She holds a PhD in Military History from the University of Kansas. She was a 2007 Fellow at the West Point Summer Seminar in Military History. Her published works include The Buffalo Soldiers\, “Lincoln’s Wartime Diplomacy and the Emancipation Proclamation” in The Routledge Handbook of Military and Diplomatic History: The Colonial Period to 1877\, “The Convergence” in A Companion to Custer and the Little Big Horn Campaign\, and “African American Soldiers: The Struggle for Equality through Service in the Civil War and the Great War” in Wars Civil and Great: American Experience in the Civil War and World War I. Her current research explores the cultural constructs of death and honor in the Civil War.
URL:https://doleinstitute.org/event/the-counselors-should-the-draft-be-reinstated/
LOCATION:The Dole Institute of Politics\, 2350 Petefish Drive\, Lawrence\, KS\, 66045\, United States
CATEGORIES:Dole Forum
ATTACH;FMTTYPE=image/png:https://doleinstitute.org/wp-content/uploads/2024/08/the-counselors_raft_websiteyt.png
ORGANIZER;CN="The Dole Institute of Politics":MAILTO:doleinstitute@ku.edu
END:VEVENT
END:VCALENDAR