BEGIN:VCALENDAR
VERSION:2.0
PRODID:-//Dole Institute - ECPv6.15.17.1//NONSGML v1.0//EN
CALSCALE:GREGORIAN
METHOD:PUBLISH
X-ORIGINAL-URL:https://doleinstitute.org
X-WR-CALDESC:Events for Dole Institute
REFRESH-INTERVAL;VALUE=DURATION:PT1H
X-Robots-Tag:noindex
X-PUBLISHED-TTL:PT1H
BEGIN:VTIMEZONE
TZID:America/Chicago
BEGIN:DAYLIGHT
TZOFFSETFROM:-0600
TZOFFSETTO:-0500
TZNAME:CDT
DTSTART:20240310T080000
END:DAYLIGHT
BEGIN:STANDARD
TZOFFSETFROM:-0500
TZOFFSETTO:-0600
TZNAME:CST
DTSTART:20241103T070000
END:STANDARD
BEGIN:DAYLIGHT
TZOFFSETFROM:-0600
TZOFFSETTO:-0500
TZNAME:CDT
DTSTART:20250309T080000
END:DAYLIGHT
BEGIN:STANDARD
TZOFFSETFROM:-0500
TZOFFSETTO:-0600
TZNAME:CST
DTSTART:20251102T070000
END:STANDARD
BEGIN:DAYLIGHT
TZOFFSETFROM:-0600
TZOFFSETTO:-0500
TZNAME:CDT
DTSTART:20260308T080000
END:DAYLIGHT
BEGIN:STANDARD
TZOFFSETFROM:-0500
TZOFFSETTO:-0600
TZNAME:CST
DTSTART:20261101T070000
END:STANDARD
END:VTIMEZONE
BEGIN:VEVENT
DTSTART;TZID=America/Chicago:20250904T190000
DTEND;TZID=America/Chicago:20250904T203000
DTSTAMP:20260421T091004
CREATED:20250811T201402Z
LAST-MODIFIED:20250825T134642Z
UID:8392-1757012400-1757017800@doleinstitute.org
SUMMARY:Church and State
DESCRIPTION:With Catholics assuming prominent roles in Washington\, and a new American Pope in place in the Vatican\, a look at how Catholic thought is impacting the public debate. \n  \n\n  \nJerry Seib has been a journalist with The Wall Street Journal for almost 45 years. He served as the Journal’s Executive Washington Editor and wrote the weekly “Capital Journal” column for 29 years. He also reported from the Middle East for the Journal in the mid-1980s\, covered the White House\, has moderated three presidential debates\, and interviewed every president since Ronald Reagan. \nJames V. Grimaldi is executive editor of the National Catholic Reporter\, a 60-year-old award-winning nonprofit news organization independent of the Catholic Church and based in Kansas City\, Mo. A multiple Pulitzer Prize winner and former investigative reporter for The Wall Street Journal and The Washington Post\, Grimaldi is a native of Kansas City\, Missouri\, and a graduate of the University of Missouri Journalism School and Columbia University Graduate School of Journalism. He has an honorary doctorate in humane letters from Creighton University and was named 2025 Distinguished Alumnus at the University of Missouri. His relationship with NCR began when he was a student at Kansas City’s Jesuit-run Rockhurst High School. Grimaldi\, who has two grown sons\, lives in Washington\, D.C. with his wife\, two dogs and three cats. \nAshley McGuire is a Senior Fellow with The Catholic Association. Her writing has appeared in The Wall Street Journal\, The Washington Post\, USA TODAY\, TIME\, Newsweek\, First Things\, RealClearPolitics\, the New York Post\, and The Huffington Post\, among others\, and she has appeared on CNN\, Fox News\, PBS\, and most major television networks. In March of 2013\, Ashley traveled to Rome to cover the papal conclave and provided live commentary for major news outlets like CNN International and the BBC. In April of 2014\, she traveled to Geneva to testify at the United Nations in defense of the Holy See. She is a recipient of the Phillips Foundation Robert Novak Journalism Fellowship and the Susan B. Anthony List’s Young Pro-Life Leader award. She lives in the Washington\, D.C. area\, with her husband and five children.
URL:https://doleinstitute.org/event/church-and-state/
LOCATION:The Dole Institute of Politics\, 2350 Petefish Drive\, Lawrence\, KS\, 66045\, United States
CATEGORIES:Dole Forum
ATTACH;FMTTYPE=image/png:https://doleinstitute.org/wp-content/uploads/2025/08/jery_sept_websiteyt-2.png
ORGANIZER;CN="The Dole Institute of Politics":MAILTO:doleinstitute@ku.edu
END:VEVENT
BEGIN:VEVENT
DTSTART;TZID=America/Chicago:20250923T190000
DTEND;TZID=America/Chicago:20250923T201500
DTSTAMP:20260421T091004
CREATED:20250902T142125Z
LAST-MODIFIED:20250922T165500Z
UID:8465-1758654000-1758658500@doleinstitute.org
SUMMARY:Water for Our Future
DESCRIPTION:Join Dole Fellow Karen Willey for a bipartisan conversation with legislative members of the Water Program Task Force. Kansas State Sen. Kenny Titus (R) and State Rep. Lindsay Vaughn (D) are two members of the 16-member panel\, which will produce its first report by the end of January 2026. \nThe Water Program Task Force was by Kansas House Bill 2172 (2025) to examine policy solutions in response to Kansas’ current and future water supply\, assess potential impacts on the state’s economy\, and consider funding efforts for related special projects. Governor Laura Kelly signed HB 2172 in March 2025 having received overwhelming bipartisan support during consideration in the state legislature. \n  \n \nThis program is presented in partnership with the KU Honors Program. \n  \n\n  \nKaren Willey serves as the Douglas County\, Kansas Commissioner for District 3. Dr. Willey holds a BA in Environmental Studies and a PhD in Geography\, both from KU. She works as a nonprofit consultant through Futureful\, a local company providing organizational health and fundraising support to health\, housing\, and human services organizations in urban Kansas City. She leverages this social impact work along with her science and entrepreneurship experience in crafting grounded local policy. \nSen. Kenny Titus was born and raised in Great Bend\, Kansas\, and attended Kansas State University where he received BS degrees in Journalism and History and a MA in History\, along with a JD from the University of Kansas School of Law. Kenny has worked as a public service attorney for the Kansas Department of Transportation\, Kansas Attorney General\, and Kansas Department of Agriculture\, where he dealt extensively with the state’s water law issues\, and he taught water law as an adjunct professor for the University of Kansas School of Law. He currently resides near Manhattan and represents the 51st District in the Kansas House\, which includes Pottawatomie\, Wabaunsee\, and Riley Counties and serves on the House Water Committee. \nRep. Lindsay Vaughn is a Kansas State Representative serving District 22 in Overland Park\, where she was born and raised. Lindsay is the Ranking member of the House Water Committee and is focused on developing policy and working with stakeholders across Kansas to build nonpartisan coalitions aimed at sustainable water use. As the youngest woman in the Kansas Legislature\, Rep. Vaughn is also dedicated to elevating the voices of young Kansans and advocating for future generations. To her legislative work\, she brings diverse experiences in nonprofit and volunteer management as well as grassroots community organizing. Lindsay is active in her local community and serves on the board of Heartland Conservation Alliance\, a land trust dedicated to stewarding the Blue River watershed.
URL:https://doleinstitute.org/event/water-for-our-future/
LOCATION:The Dole Institute of Politics\, 2350 Petefish Drive\, Lawrence\, KS\, 66045\, United States
CATEGORIES:Dole Forum
ATTACH;FMTTYPE=image/png:https://doleinstitute.org/wp-content/uploads/2025/09/water-for-our-future_websiteyt-1.png
ORGANIZER;CN="The Dole Institute of Politics":MAILTO:doleinstitute@ku.edu
END:VEVENT
END:VCALENDAR