BEGIN:VCALENDAR
VERSION:2.0
PRODID:-//Dole Institute - ECPv6.15.17.1//NONSGML v1.0//EN
CALSCALE:GREGORIAN
METHOD:PUBLISH
X-WR-CALNAME:Dole Institute
X-ORIGINAL-URL:https://doleinstitute.org
X-WR-CALDESC:Events for Dole Institute
REFRESH-INTERVAL;VALUE=DURATION:PT1H
X-Robots-Tag:noindex
X-PUBLISHED-TTL:PT1H
BEGIN:VTIMEZONE
TZID:America/Chicago
BEGIN:DAYLIGHT
TZOFFSETFROM:-0600
TZOFFSETTO:-0500
TZNAME:CDT
DTSTART:20090308T080000
END:DAYLIGHT
BEGIN:STANDARD
TZOFFSETFROM:-0500
TZOFFSETTO:-0600
TZNAME:CST
DTSTART:20091101T070000
END:STANDARD
BEGIN:DAYLIGHT
TZOFFSETFROM:-0600
TZOFFSETTO:-0500
TZNAME:CDT
DTSTART:20100314T080000
END:DAYLIGHT
BEGIN:STANDARD
TZOFFSETFROM:-0500
TZOFFSETTO:-0600
TZNAME:CST
DTSTART:20101107T070000
END:STANDARD
BEGIN:DAYLIGHT
TZOFFSETFROM:-0600
TZOFFSETTO:-0500
TZNAME:CDT
DTSTART:20110313T080000
END:DAYLIGHT
BEGIN:STANDARD
TZOFFSETFROM:-0500
TZOFFSETTO:-0600
TZNAME:CST
DTSTART:20111106T070000
END:STANDARD
END:VTIMEZONE
BEGIN:VEVENT
DTSTART;TZID=America/Chicago:20101003T000000
DTEND;TZID=America/Chicago:20101003T000000
DTSTAMP:20260424T025224
CREATED:20211027T201808Z
LAST-MODIFIED:20211101T161659Z
UID:1236-1286064000-1286064000@doleinstitute.org
SUMMARY:Women Airforce Service Pilots of World War II (WASP)
DESCRIPTION:In 2010\, the Dole Institute of Politics awarded the Women Airforce Service Pilots of World War II with the Dole Leadership Prize for their courage and contributions during the war.\nAbout World War II Women Airforce Service Pilots (WASP) \nBetween 1942 and 1944\, at the height of World War II\, more than a thousand women left homes and jobs for the opportunity of a lifetime–to become the first in history to fly for the U.S. military. They volunteered as civilian pilots in an experimental Army Air Corp program to see if women could serve as pilots and relieve men for overseas duty. Originally\, 25\,000 women applied to the program\, 1\,830 were accepted and 1\,074 graduated from training. These women became the Women Airforce Service Pilots of World War II\, better known as the WASP. Under the determined leadership of Jacqueline Cochran\, Nancy Harkness Love\, and General Henry “Hap” Arnold\, the WASP succeeded beyond all expectations. \nThe WASP were originally stationed at the Howard Hughes Municipal Airport\, Houston\, Texas but were transferred to Avenger Field\, Sweetwater\, Texas in 1943. They received seven months of training including Primary\, Basic\, and Advanced training\, the same as male cadets. The WASP were then stationed at 120 Army Air bases across the United States\, where they flew 78 different types of aircraft\, every aircraft the Army Air Corps flew\, including the B-29. However\, in 1944\, with more than 900 women on duty\, the WASP were deactivated due to military budget cuts. \nBetween 1944 and 1977\, WASP\, along with other supporters and state representatives worked to have their service be both officially recognized and no longer classified as “civilian”. In 1977\, a bill officially declared the WASP as “having served on active duty in the Armed Forces of the United States for purposes of laws administered by the Veterans Administration.” In 1984\, each pilot was awarded the World War II Victory Medal and those who served for more than one year were also given the American Theater Ribbon and American Campaign Medal. \nFinally\, on July 1st\, 2009\, President Obama signed the bill that would lead Congress to award WASP the Congressional Gold Medal. WASP received the medal on March 10\, 2010\, at a ceremony in Washington D.C.
URL:https://doleinstitute.org/event/women-airforce-service-pilots-of-world-war-ii-wasp/
CATEGORIES:Dole Leadership Prize
END:VEVENT
END:VCALENDAR