BEGIN:VCALENDAR
VERSION:2.0
PRODID:-//Dole Institute - ECPv6.15.17.1//NONSGML v1.0//EN
CALSCALE:GREGORIAN
METHOD:PUBLISH
X-WR-CALNAME:Dole Institute
X-ORIGINAL-URL:https://doleinstitute.org
X-WR-CALDESC:Events for Dole Institute
REFRESH-INTERVAL;VALUE=DURATION:PT1H
X-Robots-Tag:noindex
X-PUBLISHED-TTL:PT1H
BEGIN:VTIMEZONE
TZID:America/Chicago
BEGIN:DAYLIGHT
TZOFFSETFROM:-0600
TZOFFSETTO:-0500
TZNAME:CDT
DTSTART:20100314T080000
END:DAYLIGHT
BEGIN:STANDARD
TZOFFSETFROM:-0500
TZOFFSETTO:-0600
TZNAME:CST
DTSTART:20101107T070000
END:STANDARD
BEGIN:DAYLIGHT
TZOFFSETFROM:-0600
TZOFFSETTO:-0500
TZNAME:CDT
DTSTART:20110313T080000
END:DAYLIGHT
BEGIN:STANDARD
TZOFFSETFROM:-0500
TZOFFSETTO:-0600
TZNAME:CST
DTSTART:20111106T070000
END:STANDARD
BEGIN:DAYLIGHT
TZOFFSETFROM:-0600
TZOFFSETTO:-0500
TZNAME:CDT
DTSTART:20120311T080000
END:DAYLIGHT
BEGIN:STANDARD
TZOFFSETFROM:-0500
TZOFFSETTO:-0600
TZNAME:CST
DTSTART:20121104T070000
END:STANDARD
END:VTIMEZONE
BEGIN:VEVENT
DTSTART;TZID=America/Chicago:20110919T000000
DTEND;TZID=America/Chicago:20110919T000000
DTSTAMP:20260423T063024
CREATED:20211027T201808Z
LAST-MODIFIED:20211101T161659Z
UID:1237-1316390400-1316390400@doleinstitute.org
SUMMARY:Viktor Yushchenko\, former President of Ukraine
DESCRIPTION:Viktor Yushchenko\, former President of Ukraine\, received the 2011 Dole Leadership Prize.\n“We are honored to give the Dole Leadership Prize to such a great cultural and revolutionary icon\,” said Bill Lacy\, director of the Dole Institute. “Yushchenko and the Orange Revolution ignited a fire for the people of Ukraine\, and his victory was a landmark for all of postcommunist eastern Europe.” \nYushchenko served as Prime Minister of Ukraine from 1999-2001.  During that time\, he addressed economic and social problems by lowering inflation\, advancing privatization\, and challenging corrupt practices.  Although he was a popular prime minister\, Yushchenko was forced out of office by higher ranking government officials.\nYushchenko responded by forming a broad-based democratic coalition called Our Ukraine\, which was victorious in the parliamentary elections in 2002. The newly organized opposition gave him a platform from which to mount a credible challenge to President Leonid Kuchma\, who had been accused of overseeing an increasingly corrupt administration. \nDuring his campaign for the presidency in 2004\, Yushchenko became seriously ill from dioxin poisoning in an apparent assassination attempt; his face was left permanently disfigured. Mass protests\, which became known as the Orange Revolution\, followed a runoff round in which Prime Minister Viktor Yanukovych had been declared the winner of fraudulent elections. Thousands of Ukrainian citizens\, inspired by Yushchenko’s candidacy and their desire for democracy\, occupied the center of the capital city for weeks. The Supreme Court invalidated the falsified result and ordered a second runoff to be held in December 2004. Yushchenko was officially confirmed as the winner the following month. \nYushchenko’s victory was proof that a powerful civic movement\, committed opposition politicians\, and a resolute\, rising middle class had come together to stop the ruling elite from rigging an election and stealing Ukraine’s presidency.  The Orange Revolution was a groundbreaking milestone in the history of Eastern Europe since the fall of communism and inspired pro-democracy movements all over the world. \nThe 2011 Dole Leadership Prize was made possible in part through the generous support of Mr. and Mrs. Brian C. King of Leawood\, Kan.
URL:https://doleinstitute.org/event/viktor-yushchenko-former-president-of-ukraine/
CATEGORIES:Dole Leadership Prize
END:VEVENT
END:VCALENDAR