BEGIN:VCALENDAR
VERSION:2.0
PRODID:-//Dole Institute - ECPv6.15.17.1//NONSGML v1.0//EN
CALSCALE:GREGORIAN
METHOD:PUBLISH
X-ORIGINAL-URL:https://doleinstitute.org
X-WR-CALDESC:Events for Dole Institute
REFRESH-INTERVAL;VALUE=DURATION:PT1H
X-Robots-Tag:noindex
X-PUBLISHED-TTL:PT1H
BEGIN:VTIMEZONE
TZID:America/Chicago
BEGIN:DAYLIGHT
TZOFFSETFROM:-0600
TZOFFSETTO:-0500
TZNAME:CDT
DTSTART:20110313T080000
END:DAYLIGHT
BEGIN:STANDARD
TZOFFSETFROM:-0500
TZOFFSETTO:-0600
TZNAME:CST
DTSTART:20111106T070000
END:STANDARD
BEGIN:DAYLIGHT
TZOFFSETFROM:-0600
TZOFFSETTO:-0500
TZNAME:CDT
DTSTART:20120311T080000
END:DAYLIGHT
BEGIN:STANDARD
TZOFFSETFROM:-0500
TZOFFSETTO:-0600
TZNAME:CST
DTSTART:20121104T070000
END:STANDARD
BEGIN:DAYLIGHT
TZOFFSETFROM:-0600
TZOFFSETTO:-0500
TZNAME:CDT
DTSTART:20130310T080000
END:DAYLIGHT
BEGIN:STANDARD
TZOFFSETFROM:-0500
TZOFFSETTO:-0600
TZNAME:CST
DTSTART:20131103T070000
END:STANDARD
END:VTIMEZONE
BEGIN:VEVENT
DTSTART;TZID=America/Chicago:20121014T000000
DTEND;TZID=America/Chicago:20121014T000000
DTSTAMP:20260422T090537
CREATED:20211027T201808Z
LAST-MODIFIED:20211101T161659Z
UID:1238-1350172800-1350172800@doleinstitute.org
SUMMARY:Wounded Warrior Project
DESCRIPTION:With the mission to honor and empower Wounded Warriors\, Wounded Warrior Project (WWP) is the hand extended to encourage warriors as they achieve new triumphs. WWP was the recipient of the 2012 Dole Leadership Prize. Wounded Warriors\, a WWP advocate/caregiver and WWP’s executive director\, Steven Nardizzi\, joined us at the Dole Institute for an interview discussion and awarding of the prize.\nU.S. Army sniper Shane Parsons was prowling for IEDs in Baghdad when he pointed a Humvee down a desolate street to check out something that seemed out of the ordinary in a place marked by oddities of warfare. \nWhat happened next would send him on a challenging six-year journey to the Dole Institute of Politics at The University of Kansas\, where he offered a poignant recitation of life from injury into survival aided by the Wounded Warrior Project. The organization’s contributions to Parsons and thousands of other veterans making the adjustment to the civilian world on Sunday earned it the 2012 Dole Leadership Prize.
URL:https://doleinstitute.org/event/wounded-warrior-project/
CATEGORIES:Dole Leadership Prize
END:VEVENT
END:VCALENDAR