BEGIN:VCALENDAR
VERSION:2.0
PRODID:-//Dole Institute - ECPv6.15.17.1//NONSGML v1.0//EN
CALSCALE:GREGORIAN
METHOD:PUBLISH
X-ORIGINAL-URL:https://doleinstitute.org
X-WR-CALDESC:Events for Dole Institute
REFRESH-INTERVAL;VALUE=DURATION:PT1H
X-Robots-Tag:noindex
X-PUBLISHED-TTL:PT1H
BEGIN:VTIMEZONE
TZID:America/Chicago
BEGIN:DAYLIGHT
TZOFFSETFROM:-0600
TZOFFSETTO:-0500
TZNAME:CDT
DTSTART:20120311T080000
END:DAYLIGHT
BEGIN:STANDARD
TZOFFSETFROM:-0500
TZOFFSETTO:-0600
TZNAME:CST
DTSTART:20121104T070000
END:STANDARD
BEGIN:DAYLIGHT
TZOFFSETFROM:-0600
TZOFFSETTO:-0500
TZNAME:CDT
DTSTART:20130310T080000
END:DAYLIGHT
BEGIN:STANDARD
TZOFFSETFROM:-0500
TZOFFSETTO:-0600
TZNAME:CST
DTSTART:20131103T070000
END:STANDARD
BEGIN:DAYLIGHT
TZOFFSETFROM:-0600
TZOFFSETTO:-0500
TZNAME:CDT
DTSTART:20140309T080000
END:DAYLIGHT
BEGIN:STANDARD
TZOFFSETFROM:-0500
TZOFFSETTO:-0600
TZNAME:CST
DTSTART:20141102T070000
END:STANDARD
END:VTIMEZONE
BEGIN:VEVENT
DTSTART;TZID=America/Chicago:20131027T000000
DTEND;TZID=America/Chicago:20131027T000000
DTSTAMP:20260421T140528
CREATED:20211027T201822Z
LAST-MODIFIED:20211101T161714Z
UID:1239-1382832000-1382832000@doleinstitute.org
SUMMARY:Nelson Mandela\, former President of South Africa
DESCRIPTION:The Dole Institute of Politics was proud to honor Nelson Mandela\, former president of South Africa\, as the 2013 Dole Leadership Prize recipient. Mandela’s great-grandson\, Luvuyo Mandela\, accepted the prize on the former president’s behalf. The $25\,000 prize was awarded to the Nelson Mandela Centre of Memory at the Nelson Mandela Foundation.
URL:https://doleinstitute.org/event/nelson-mandela-former-president-of-south-africa/
CATEGORIES:Dole Leadership Prize
END:VEVENT
END:VCALENDAR