BEGIN:VCALENDAR
VERSION:2.0
PRODID:-//Dole Institute - ECPv6.15.17.1//NONSGML v1.0//EN
CALSCALE:GREGORIAN
METHOD:PUBLISH
X-WR-CALNAME:Dole Institute
X-ORIGINAL-URL:https://doleinstitute.org
X-WR-CALDESC:Events for Dole Institute
REFRESH-INTERVAL;VALUE=DURATION:PT1H
X-Robots-Tag:noindex
X-PUBLISHED-TTL:PT1H
BEGIN:VTIMEZONE
TZID:America/Chicago
BEGIN:DAYLIGHT
TZOFFSETFROM:-0600
TZOFFSETTO:-0500
TZNAME:CDT
DTSTART:20210314T080000
END:DAYLIGHT
BEGIN:STANDARD
TZOFFSETFROM:-0500
TZOFFSETTO:-0600
TZNAME:CST
DTSTART:20211107T070000
END:STANDARD
BEGIN:DAYLIGHT
TZOFFSETFROM:-0600
TZOFFSETTO:-0500
TZNAME:CDT
DTSTART:20220313T080000
END:DAYLIGHT
BEGIN:STANDARD
TZOFFSETFROM:-0500
TZOFFSETTO:-0600
TZNAME:CST
DTSTART:20221106T070000
END:STANDARD
BEGIN:DAYLIGHT
TZOFFSETFROM:-0600
TZOFFSETTO:-0500
TZNAME:CDT
DTSTART:20230312T080000
END:DAYLIGHT
BEGIN:STANDARD
TZOFFSETFROM:-0500
TZOFFSETTO:-0600
TZNAME:CST
DTSTART:20231105T070000
END:STANDARD
BEGIN:DAYLIGHT
TZOFFSETFROM:-0600
TZOFFSETTO:-0500
TZNAME:CDT
DTSTART:20240310T080000
END:DAYLIGHT
BEGIN:STANDARD
TZOFFSETFROM:-0500
TZOFFSETTO:-0600
TZNAME:CST
DTSTART:20241103T070000
END:STANDARD
END:VTIMEZONE
BEGIN:VEVENT
DTSTART;TZID=America/Chicago:20220614T120000
DTEND;TZID=America/Chicago:20230126T160000
DTSTAMP:20260421T223815
CREATED:20220525T213752Z
LAST-MODIFIED:20220617T194736Z
UID:2686-1655208000-1674748800@doleinstitute.org
SUMMARY:Exhibit: Missing\, Then Action: An Army Wife Speaks out
DESCRIPTION:In June 1965\, Kansan Kathleen Johnson received word that her husband\, U.S. Army Major Bruce Johnson was missing. \nFor four years\, she waited—then\, she sought answers for her three young children. This is her story of love\, loss\, waiting – and action. \nKathleen Johnson of Salina\, Kansas was a founding member of the National League of Families of Prisoners and Missing in Southeast Asia. These brave military wives from across the country spoke out\, against government policy\, to seek recognition\, answers\, and accounting for their prisoner of war (POW) and missing in action (MIA) husbands during Vietnam. Some national leaders\, including Senator Bob Dole\, became fervent advocates for them in the halls of the U.S. government. \nThis special exhibit is made possible by ITC Great Plains. \n 
URL:https://doleinstitute.org/event/exhibit-missing-then-action-an-army-wife-speaks-out/
LOCATION:Elizabeth Dole Gallery & Reading Room\, 2350 Petefish Drive\, Lawrence\, 66045\, United States
CATEGORIES:Exhibit
ATTACH;FMTTYPE=image/jpeg:https://doleinstitute.org/wp-content/uploads/2022/05/DIOP_MTA-exibit_website.jpg
ORGANIZER;CN="The Dole Institute of Politics":MAILTO:doleinstitute@ku.edu
END:VEVENT
BEGIN:VEVENT
DTSTART;TZID=America/Chicago:20220906T120000
DTEND;TZID=America/Chicago:20220911T160000
DTSTAMP:20260421T223815
CREATED:20220825T160540Z
LAST-MODIFIED:20220825T160639Z
UID:3037-1662465600-1662912000@doleinstitute.org
SUMMARY:Exhibit: September 11\, 2001: The Day that Changed the World
DESCRIPTION:  \nOn display from September 6 – September 11\, 2022 \nThe Dole Institute will display a special poster exhibition in Simons Media Room from September 6 through September 11\, for the occasion of the 21st anniversary of the September 11 attacks. Entitled “September 11\, 2001: The Day that Changed the World\,” the exhibit reviews the events of the day\, highlights personal experiences\, and invites reflection. It was developed by the 9/11 Memorial Museum with support from the National Endowment for the Humanities. \nIn Hansen Hall\, visitors can also view two original beams from World Trade Center Tower One\, a permanent memorial at the Institute. The two columns were salvaged and presented to the Dole Institute by Mayor Michael Bloomberg\, in appreciation of Senator Bob Dole’s work with Former President Bill Clinton on the Families of Freedom Scholarship Fund for the children of 9/11 victims. \nMuseum open Tuesday – Sunday 12 p.m. – 4 p.m.
URL:https://doleinstitute.org/event/exhibit-september-11-2001-the-day-that-changed-the-world-2/
LOCATION:The Dole Institute of Politics\, 2350 Petefish Drive\, Lawrence\, KS\, 66045\, United States
CATEGORIES:Exhibit
ATTACH;FMTTYPE=image/png:https://doleinstitute.org/wp-content/uploads/2022/08/911-exhibit-2022-png.png
END:VEVENT
END:VCALENDAR