BEGIN:VCALENDAR
VERSION:2.0
PRODID:-//Dole Institute - ECPv6.15.17.1//NONSGML v1.0//EN
CALSCALE:GREGORIAN
METHOD:PUBLISH
X-WR-CALNAME:Dole Institute
X-ORIGINAL-URL:https://doleinstitute.org
X-WR-CALDESC:Events for Dole Institute
REFRESH-INTERVAL;VALUE=DURATION:PT1H
X-Robots-Tag:noindex
X-PUBLISHED-TTL:PT1H
BEGIN:VTIMEZONE
TZID:America/Chicago
BEGIN:DAYLIGHT
TZOFFSETFROM:-0600
TZOFFSETTO:-0500
TZNAME:CDT
DTSTART:20200308T080000
END:DAYLIGHT
BEGIN:STANDARD
TZOFFSETFROM:-0500
TZOFFSETTO:-0600
TZNAME:CST
DTSTART:20201101T070000
END:STANDARD
BEGIN:DAYLIGHT
TZOFFSETFROM:-0600
TZOFFSETTO:-0500
TZNAME:CDT
DTSTART:20210314T080000
END:DAYLIGHT
BEGIN:STANDARD
TZOFFSETFROM:-0500
TZOFFSETTO:-0600
TZNAME:CST
DTSTART:20211107T070000
END:STANDARD
BEGIN:DAYLIGHT
TZOFFSETFROM:-0600
TZOFFSETTO:-0500
TZNAME:CDT
DTSTART:20220313T080000
END:DAYLIGHT
BEGIN:STANDARD
TZOFFSETFROM:-0500
TZOFFSETTO:-0600
TZNAME:CST
DTSTART:20221106T070000
END:STANDARD
BEGIN:DAYLIGHT
TZOFFSETFROM:-0600
TZOFFSETTO:-0500
TZNAME:CDT
DTSTART:20230312T080000
END:DAYLIGHT
BEGIN:STANDARD
TZOFFSETFROM:-0500
TZOFFSETTO:-0600
TZNAME:CST
DTSTART:20231105T070000
END:STANDARD
BEGIN:DAYLIGHT
TZOFFSETFROM:-0600
TZOFFSETTO:-0500
TZNAME:CDT
DTSTART:20240310T080000
END:DAYLIGHT
BEGIN:STANDARD
TZOFFSETFROM:-0500
TZOFFSETTO:-0600
TZNAME:CST
DTSTART:20241103T070000
END:STANDARD
BEGIN:DAYLIGHT
TZOFFSETFROM:-0600
TZOFFSETTO:-0500
TZNAME:CDT
DTSTART:20250309T080000
END:DAYLIGHT
BEGIN:STANDARD
TZOFFSETFROM:-0500
TZOFFSETTO:-0600
TZNAME:CST
DTSTART:20251102T070000
END:STANDARD
BEGIN:DAYLIGHT
TZOFFSETFROM:-0600
TZOFFSETTO:-0500
TZNAME:CDT
DTSTART:20260308T080000
END:DAYLIGHT
BEGIN:STANDARD
TZOFFSETFROM:-0500
TZOFFSETTO:-0600
TZNAME:CST
DTSTART:20261101T070000
END:STANDARD
BEGIN:DAYLIGHT
TZOFFSETFROM:-0600
TZOFFSETTO:-0500
TZNAME:CDT
DTSTART:20270314T080000
END:DAYLIGHT
BEGIN:STANDARD
TZOFFSETFROM:-0500
TZOFFSETTO:-0600
TZNAME:CST
DTSTART:20271107T070000
END:STANDARD
END:VTIMEZONE
BEGIN:VEVENT
DTSTART;VALUE=DATE:20250902
DTEND;VALUE=DATE:20250915
DTSTAMP:20260419T082815
CREATED:20250811T204345Z
LAST-MODIFIED:20250811T213356Z
UID:8422-1756771200-1757894399@doleinstitute.org
SUMMARY:September 11\, 2001: The Day That Changed the World
DESCRIPTION:In commemoration of the anniversary of the September 11\, 2001\, attacks\, the Dole Institute will be displaying a special memorial poster exhibit\, “September 11\, 2001: The Day That Changed the World\,” developed by the 9/11 Memorial Museum with support from the National Endowment for the Humanities.  \nThe exhibit reviews the events of the day\, highlights personal experiences\, and invites reflections from all patrons. Guests can also view the Institute’s permanent September 11 Memorial in Hansen Hall\, featuring two original beams from World Trade Center Tower 1.  \nPlan your visit to the Dole Institute’s Museum & Galleries →
URL:https://doleinstitute.org/event/september-11-2001-the-day-that-changed-the-world/
LOCATION:The Dole Institute of Politics\, 2350 Petefish Drive\, Lawrence\, KS\, 66045\, United States
CATEGORIES:Exhibit
ATTACH;FMTTYPE=image/png:https://doleinstitute.org/wp-content/uploads/2025/08/sept-11-exhibit_website.png
END:VEVENT
BEGIN:VEVENT
DTSTART;VALUE=DATE:20250401
DTEND;VALUE=DATE:20260202
DTSTAMP:20260419T082815
CREATED:20250310T140025Z
LAST-MODIFIED:20260109T173627Z
UID:7885-1743465600-1769990399@doleinstitute.org
SUMMARY:Dole & Dr. K: A Story of Loss and Recovery Turned Advocacy for Armenia
DESCRIPTION:This special exhibit will be closing on February 1\, 2026\, to prepare for a new special exhibit. Make plans to visit the Dole Institute’s Museum & Galleries\, open Tuesday through Sunday from 12 p.m. to 4 p.m.\, by visiting our website. \n\nCan’t make it to see this exhibit? View the online exhibit on Dole Collections Online → \n\nA young Bob Dole\, searching for a fuller recovery from grave World War II injuries\, connected with Armenian surgeon Dr. Hampar Kelikian. Over the course of seven surgeries in seven years\, “Dr. K” shared his story of loss and renewal around the 1915 Armenian Genocide—inspiring Dole as he worked to reimagine his future and build a new life. \nKelikian’s lessons resonated with Dole in the decades following as he entered public service. Throughout his time in the U.S. Senate\, Dole championed Armenia\, including calling for official recognition of the Armenian Genocide – despite long odds and competing national interests. \nThis exhibit is based on the research of Michael Bobelian\, who served as the Dole Archives Fellow for Armenian Advocacy in 2018. Mr. Bobelian is the author of “Children of Armenia: A Forgotten Genocide and the Century-Long Struggle for Justice.”
URL:https://doleinstitute.org/event/dole-dr-k-a-story-of-loss-and-recovery-turned-advocacy-for-armenia/
LOCATION:The Dole Institute of Politics\, 2350 Petefish Drive\, Lawrence\, KS\, 66045\, United States
CATEGORIES:Exhibit
ATTACH;FMTTYPE=image/png:https://doleinstitute.org/wp-content/uploads/2025/03/dole-and-dr.-k_exhibit-title-cards_all-4.png
END:VEVENT
BEGIN:VEVENT
DTSTART;VALUE=DATE:20250102
DTEND;VALUE=DATE:20250203
DTSTAMP:20260419T082815
CREATED:20250102T183049Z
LAST-MODIFIED:20250102T183049Z
UID:7611-1735776000-1738540799@doleinstitute.org
SUMMARY:Jimmy Carter: A Special Memorial Exhibit
DESCRIPTION:Senator Bob Dole was proud that President Jimmy Carter participated in the Dole Institute’s dedication in 2003\, in a significant demonstration of bipartisan leadership. Lifelong public servants\, President Carter and Senator Dole knew America works best when we work together to seek common ground for the common good. \nJoin the Dole Institute in honoring his life and legacy by visiting our Museum & Galleries to view a special memorial display featuring items from the Robert and Elizabeth Dole Archives and Special Collections that highlight the relationship between Dole and Carter. \nVisitors will have an opportunity to sign a guest book that will later be presented to the Carter family. \nPlan your visit to the Dole Institute’s Museum & Galleries by visiting our website.
URL:https://doleinstitute.org/event/jimmy-carter-a-special-memorial-exhibit/
LOCATION:The Dole Institute of Politics\, 2350 Petefish Drive\, Lawrence\, KS\, 66045\, United States
CATEGORIES:Exhibit
ATTACH;FMTTYPE=image/png:https://doleinstitute.org/wp-content/uploads/2025/01/jimmy-Carter-memorial-exhibit_card-1.png
END:VEVENT
BEGIN:VEVENT
DTSTART;VALUE=DATE:20240618
DTEND;VALUE=DATE:20250120
DTSTAMP:20260419T082815
CREATED:20240605T151302Z
LAST-MODIFIED:20250123T145042Z
UID:5911-1718668800-1737331199@doleinstitute.org
SUMMARY:Election Administrators / Election Designers
DESCRIPTION:Elections don’t just happen. They’re designed and administered by over 10\,000 local election offices throughout the United States. Ahead of the General Election\, explore how election administrators design and execute an election in your community from the moment an election is scheduled to long after the final ballot has been cast. \nThis exhibit is presented through the Bolstering Elections Initiative from the Dole Institute and the Edward M. Kennedy Institute for the United States Senate. Learn more about the initiative here. \n  \n \nA special exhibit from the Hasso Plattner Institute of Design at Stanford.
URL:https://doleinstitute.org/event/election-administrators-election-designers/
LOCATION:The Dole Institute of Politics\, 2350 Petefish Drive\, Lawrence\, KS\, 66045\, United States
CATEGORIES:Exhibit
ATTACH;FMTTYPE=image/png:https://doleinstitute.org/wp-content/uploads/2024/06/election-design_card-2.png
ORGANIZER;CN="The Dole Institute of Politics":MAILTO:doleinstitute@ku.edu
END:VEVENT
BEGIN:VEVENT
DTSTART;VALUE=DATE:20240420
DTEND;VALUE=DATE:20250310
DTSTAMP:20260419T082815
CREATED:20240401T050053Z
LAST-MODIFIED:20250301T010357Z
UID:5491-1713571200-1741564799@doleinstitute.org
SUMMARY:ERA in the Heartland: Ratification and Reconsideration in Kansas\, 1973-1980
DESCRIPTION:Experience ERA in the Heartland before the exhibit closes this month! The last day to visit this exhibit is March 9. Plan your visit to the Dole Institute’s Museum & Galleries by visiting our website.\nIn the early 1970s states raced to ratify the Equal Rights Amendment after it was passed in Congress. It seemed inevitable that the legislation\, granting equal rights to men and women\, would become the 27th amendment to the United States Constitution. Grassroots movements – for and against the amendment – mobilized swiftly in response. Highlighting the voices of ordinary Kansans\, this exhibit explores the dialogue surrounding the adoption of the ERA in our state and its legacy today. \nThis exhibit is based on University of Kansas history and journalism student Alexandra Haggar’s Honors thesis: “Rescind ERA: The Failed Efforts in Kansas to Rescind Ratification of the Equal Rights Amendment\, 1973-1980.” \n  \n \nThis exhibit is presented in partnership with the KU Department of History and with special thanks to Dr. Marie Grace Brown. \nThis exhibit features materials from the Kenneth Spencer Research Library at the University of Kansas.
URL:https://doleinstitute.org/event/era-in-the-heartland-ratification-and-reconsideration-in-kansas-1973-1980/
LOCATION:Elizabeth Dole Gallery & Reading Room\, 2350 Petefish Drive\, Lawrence\, 66045\, United States
CATEGORIES:Exhibit
ATTACH;FMTTYPE=image/png:https://doleinstitute.org/wp-content/uploads/2024/03/spex_era-in-the-heartland_cover-2.png
ORGANIZER;CN="The Dole Institute of Politics":MAILTO:doleinstitute@ku.edu
END:VEVENT
BEGIN:VEVENT
DTSTART;VALUE=DATE:20230905
DTEND;VALUE=DATE:20230918
DTSTAMP:20260419T082815
CREATED:20230817T203604Z
LAST-MODIFIED:20230817T211537Z
UID:4168-1693872000-1694995199@doleinstitute.org
SUMMARY:September 11\, 2001: The Day that Changed the World
DESCRIPTION:On display from September 5-17\, 2023 at the Dole Institute of Politics \nThe Dole Institute will have special hours on Monday\, September 11\, 2023. We will be open from 12 pm – 4 pm. \nThe Dole Institute of Politics will be displaying a special poster exhibit commemorating the anniversary of the September 11 attacks. “September 11: The Day that Changed the World” reviews the events of the day\, highlights personal experiences\, and invites reflections from all patrons. This exhibit was developed by the 9/11 Memorial Museum with support from the National Endowment for the Humanities. \nGuests can also view our permanent memorial in Hansen Hall\, featuring original beams from World Trade Center Tower One. These beams were salvaged and presented to the Dole Institute by Mayor Michael Bloomberg in appreciation for Senator Dole’s work with former President Bill Clinton to develop the Families of Freedom Scholarship Fund\, which helped fund the education for children of 9/11 victims.
URL:https://doleinstitute.org/event/exhibit-september-11-2001-the-day-that-changed-the-world-3/
LOCATION:The Dole Institute of Politics\, 2350 Petefish Drive\, Lawrence\, KS\, 66045\, United States
CATEGORIES:Exhibit
ATTACH;FMTTYPE=image/png:https://doleinstitute.org/wp-content/uploads/2023/08/911-Exhibit-Card-2.png
ORGANIZER;CN="The Dole Institute of Politics":MAILTO:doleinstitute@ku.edu
END:VEVENT
BEGIN:VEVENT
DTSTART;TZID=America/Chicago:20230614T120000
DTEND;TZID=America/Chicago:20240331T160000
DTSTAMP:20260419T082815
CREATED:20230530T210126Z
LAST-MODIFIED:20240123T174725Z
UID:4014-1686744000-1711900800@doleinstitute.org
SUMMARY:Landmarks in Leadership: Bob Dole’s Legacy at 100 Years
DESCRIPTION:On display now through March 31 in the Elizabeth Dole Gallery and Reading Room \n\nSenator Bob Dole’s leadership shaped Congress\, our nation\, and the world. See his life and legacy through your eyes by viewing our special exhibit\, Landmarks in Leadership: Bob Dole’s Legacy at 100 Years. \nTo commemorate his 100th birthday\, the Dole Archives presents never-displayed materials highlighting his landmark career. Featuring objects\, manuscripts\, and photographs from the Robert and Elizabeth Dole Archives and Special Collections\, the exhibit tells the story of major moments in Senator Dole’s career through archival collections\, such as a vintage 1968 Dole for Senate billboard\, a scale model of the Dole Institute\, and rocks used for the construction of the WWII Memorial in Washington\, D.C. \nThank you to our Landmark Event Sponsors AARP-Kansas and Microsoft and all our season’s supporters.
URL:https://doleinstitute.org/event/landmarks-in-leadership-bob-doles-legacy-at-100-years/
LOCATION:Elizabeth Dole Gallery & Reading Room\, 2350 Petefish Drive\, Lawrence\, 66045\, United States
CATEGORIES:Exhibit
ATTACH;FMTTYPE=image/png:https://doleinstitute.org/wp-content/uploads/2023/05/Exhibit-Website-Graphic-updated.png
END:VEVENT
BEGIN:VEVENT
DTSTART;TZID=America/Chicago:20221205T120000
DTEND;TZID=America/Chicago:20221205T160000
DTSTAMP:20260419T082815
CREATED:20221130T214747Z
LAST-MODIFIED:20221130T214747Z
UID:3374-1670241600-1670256000@doleinstitute.org
SUMMARY:Honoring the first anniversary of Senator Bob Dole's passing
DESCRIPTION:The Dole Institute will be open on Monday\, December 5 \nOn Monday\, December 5\, the Dole Institute of Politics will mark the first anniversary of Senator Bob Dole’s passing with music and reflection\, as well as the debut of a newly renovated permanent exhibit case dedicated to his post-political service and passing. The museum will be open to the public from 12 to 4 p.m.
URL:https://doleinstitute.org/event/honoring-the-first-anniversary-of-senator-bob-doles-passing/
LOCATION:The Dole Institute of Politics\, 2350 Petefish Drive\, Lawrence\, KS\, 66045\, United States
CATEGORIES:Exhibit
ATTACH;FMTTYPE=image/png:https://doleinstitute.org/wp-content/uploads/2022/11/Anniversary-Bob-Dole.png
END:VEVENT
BEGIN:VEVENT
DTSTART;TZID=America/Chicago:20220906T120000
DTEND;TZID=America/Chicago:20220911T160000
DTSTAMP:20260419T082815
CREATED:20220825T160540Z
LAST-MODIFIED:20220825T160639Z
UID:3037-1662465600-1662912000@doleinstitute.org
SUMMARY:Exhibit: September 11\, 2001: The Day that Changed the World
DESCRIPTION:  \nOn display from September 6 – September 11\, 2022 \nThe Dole Institute will display a special poster exhibition in Simons Media Room from September 6 through September 11\, for the occasion of the 21st anniversary of the September 11 attacks. Entitled “September 11\, 2001: The Day that Changed the World\,” the exhibit reviews the events of the day\, highlights personal experiences\, and invites reflection. It was developed by the 9/11 Memorial Museum with support from the National Endowment for the Humanities. \nIn Hansen Hall\, visitors can also view two original beams from World Trade Center Tower One\, a permanent memorial at the Institute. The two columns were salvaged and presented to the Dole Institute by Mayor Michael Bloomberg\, in appreciation of Senator Bob Dole’s work with Former President Bill Clinton on the Families of Freedom Scholarship Fund for the children of 9/11 victims. \nMuseum open Tuesday – Sunday 12 p.m. – 4 p.m.
URL:https://doleinstitute.org/event/exhibit-september-11-2001-the-day-that-changed-the-world-2/
LOCATION:The Dole Institute of Politics\, 2350 Petefish Drive\, Lawrence\, KS\, 66045\, United States
CATEGORIES:Exhibit
ATTACH;FMTTYPE=image/png:https://doleinstitute.org/wp-content/uploads/2022/08/911-exhibit-2022-png.png
END:VEVENT
BEGIN:VEVENT
DTSTART;TZID=America/Chicago:20220616T140000
DTEND;TZID=America/Chicago:20220616T153000
DTSTAMP:20260419T082815
CREATED:20220531T183121Z
LAST-MODIFIED:20220531T194302Z
UID:2691-1655388000-1655393400@doleinstitute.org
SUMMARY:From Dependents to Interdependence: The Army Officer's Wife Ideal and the Making of Army Family Policy
DESCRIPTION:Historian Mary McMurray will contextualize the activism of POW/MIA wives with the changing roles and expectations of the Army wife in the 20th century. Using military guidebooks and other sources directed at military spouses\, Mary places Army spouses at the center of systemic changes in the Army. Her presentation\, followed by audience Q&A\, will cover the period from the beginning of World War II\, with the old saying\, “if the Army wanted you to have a wife\, they would have issued you one\,” to 1983\, with the release of the Army Family White Paper that called for policies and practices to support the interdependence of families and the military. \nMary McMurray is the Director of the Johnson County Museum\, which just earned national accreditation from the American Alliance of Museums. Mary holds degrees in history from MU (Bachelors)\, UMKC (Masters)\, and KU (Doctorate). She is passionate about civic engagement and using lessons from the past to inspire\, empower\, and embolden people to make a brighter future. Prior to her role at the Johnson County Museum\, Mary worked in various roles for two presidential library foundations and as Superintendent of Historic Sites and Outdoor Education for Jackson County.  \nJune 16 at 2 p.m. in Simons Media Room
URL:https://doleinstitute.org/event/from-dependents-to-interdependence-the-army-officers-wife-ideal-and-the-making-of-army-family-policy/
LOCATION:The Dole Institute of Politics\, 2350 Petefish Drive\, Lawrence\, KS\, 66045\, United States
CATEGORIES:Exhibit
ATTACH;FMTTYPE=image/jpeg:https://doleinstitute.org/wp-content/uploads/2022/05/McMurray.jpg
ORGANIZER;CN="The Dole Institute of Politics":MAILTO:doleinstitute@ku.edu
END:VEVENT
BEGIN:VEVENT
DTSTART;TZID=America/Chicago:20220614T120000
DTEND;TZID=America/Chicago:20230126T160000
DTSTAMP:20260419T082815
CREATED:20220525T213752Z
LAST-MODIFIED:20220617T194736Z
UID:2686-1655208000-1674748800@doleinstitute.org
SUMMARY:Exhibit: Missing\, Then Action: An Army Wife Speaks out
DESCRIPTION:In June 1965\, Kansan Kathleen Johnson received word that her husband\, U.S. Army Major Bruce Johnson was missing. \nFor four years\, she waited—then\, she sought answers for her three young children. This is her story of love\, loss\, waiting – and action. \nKathleen Johnson of Salina\, Kansas was a founding member of the National League of Families of Prisoners and Missing in Southeast Asia. These brave military wives from across the country spoke out\, against government policy\, to seek recognition\, answers\, and accounting for their prisoner of war (POW) and missing in action (MIA) husbands during Vietnam. Some national leaders\, including Senator Bob Dole\, became fervent advocates for them in the halls of the U.S. government. \nThis special exhibit is made possible by ITC Great Plains. \n 
URL:https://doleinstitute.org/event/exhibit-missing-then-action-an-army-wife-speaks-out/
LOCATION:Elizabeth Dole Gallery & Reading Room\, 2350 Petefish Drive\, Lawrence\, 66045\, United States
CATEGORIES:Exhibit
ATTACH;FMTTYPE=image/jpeg:https://doleinstitute.org/wp-content/uploads/2022/05/DIOP_MTA-exibit_website.jpg
ORGANIZER;CN="The Dole Institute of Politics":MAILTO:doleinstitute@ku.edu
END:VEVENT
BEGIN:VEVENT
DTSTART;TZID=America/Chicago:20220318T120000
DTEND;TZID=America/Chicago:20220528T120000
DTSTAMP:20260419T082815
CREATED:20220225T202234Z
LAST-MODIFIED:20220713T211914Z
UID:2160-1647604800-1653739200@doleinstitute.org
SUMMARY:Exhibit: What Would a Woman Offer Her Country? Elizabeth Dole's Ground-breaking\, Trail-blazing Life of Service
DESCRIPTION:Exhibit: What Would a Woman Offer Her Country? Elizabeth Dole’s Ground-breaking\, Trail-blazing Life of Service\nOpening March 18\, 2022\nAfter several decades of leadership at the highest levels of U.S. government\, Elizabeth Dole asked and answered this pointed question in a 1999 speech she delivered while she contemplated a run for the U.S.presidency. The following year\, she became the first viable woman candidate from a major political party to seek our nation’s highest office. As one of just 24 women in her 1965 Harvard Law School class of 550\, Senator Dole went on to serve five U.S. presidents and became the first woman to serve in two different positions in two presidential cabinets. She was the first woman head of the American Red Cross since founder Clara Barton in 1881\, and later was elected the first woman U.S. Senator from North Carolina. In 2012\, she established the Elizabeth Dole Foundation to adress military families’ urgent support needs. It has since become the country’s preeminent organization that empowers\, supports\, and honors military and veteran caregivers. Aside from these historic firsts\, what has Senator Elizabeth Dole offered her county? This exhibit\, featuring items from her historical collections which she donated to the Dole Institute in 2017\, chronicles over six decades of people-focused leadership and policy making – all while breaking barriers and blazing trails for other women to follow in her footsteps.
URL:https://doleinstitute.org/event/exhibit-what-would-a-woman-offer-her-country-elizabeth-doles-ground-breaking-trail-blazing-life-of-service/
LOCATION:Elizabeth Dole Gallery & Reading Room\, 2350 Petefish Drive\, Lawrence\, 66045\, United States
CATEGORIES:Exhibit
ATTACH;FMTTYPE=image/png:https://doleinstitute.org/wp-content/uploads/2022/02/EHD-Exhibit-banner.png
ORGANIZER;CN="The Dole Institute of Politics":MAILTO:doleinstitute@ku.edu
END:VEVENT
BEGIN:VEVENT
DTSTART;VALUE=DATE:20211130
DTEND;VALUE=DATE:20220131
DTSTAMP:20260419T082815
CREATED:20211119T160541Z
LAST-MODIFIED:20220713T211830Z
UID:1385-1638230400-1643587199@doleinstitute.org
SUMMARY:EXHIBIT – Remembering Service\, Sacrifice\, Unity\, and Victory:  A National Memorial to World War II
DESCRIPTION:Remembering Service\, Sacrifice\, Unity\, and Victory:\nA National Memorial to World War II\nNovember 30\, 2021-January 30\, 2022\nExhibit on display in the Elizabeth Dole Gallery & Reading Room\nThe bombing of Pearl Harbor on December 7\, 1941: The tragedy that prompted US entrance into World War II\, calling a whole generation into service\, both abroad and at home. \nMarking 80 years since that dark day\, D.C. comes to the Dole Institute with this original concept model of the WWII Memorial presented in partnership with the Friends of the National World War II Memorial. \nBob Dole was one of 16 million Americans who served in uniform during World War II. Senator Dole brought his commitment to veterans to his 35 years of service in the US Congress and beyond. In retirement\, Senator Dole served as national chairman of the fundraising campaign to build the National World War II Memorial\, which opened on the National Mall in 2004\, and has greeted veterans weekly on-site for 15 years.
URL:https://doleinstitute.org/event/exhibit-remembering-service-sacrifice-unity-and-victory/
LOCATION:Elizabeth Dole Gallery & Reading Room\, 2350 Petefish Drive\, Lawrence\, 66045\, United States
CATEGORIES:Exhibit
ATTACH;FMTTYPE=image/png:https://doleinstitute.org/wp-content/uploads/2021/11/2-e1637338266783.png
ORGANIZER;CN="The Dole Institute of Politics":MAILTO:doleinstitute@ku.edu
END:VEVENT
BEGIN:VEVENT
DTSTART;TZID=America/Chicago:20210211T080000
DTEND;TZID=America/Chicago:20211031T170000
DTSTAMP:20260419T082815
CREATED:20210522T205246Z
LAST-MODIFIED:20220713T211724Z
UID:888-1613030400-1635699600@doleinstitute.org
SUMMARY:Voices from the Big First\, 1961-1968
DESCRIPTION:In 1961\, Kansas\, with the rest of the United States\, found itself at a political\, social\, and cultural crossroads. Featuring a selection of constituent letters written to then-Congressman Bob Dole from the collections of the Dole Archives\, this original exhibit curated by Kansas history scholar Virgil Dean offers a window into the hopes and fears of everyday Kansans as they responded to change at home and conflict abroad. \nThis exhibit and associated programs examine where Kansas has been and where it’s going to complement Humanities Kansas initiative: Crossroads: Change in Rural America\, a partnership between Humanities Kansas and the Smithsonian Institution’s Museum on Main Street program. Funding for the exhibit and related programs was provided by Humanities Kansas
URL:https://doleinstitute.org/event/voices-from-the-big-first-1961-1968/
LOCATION:Elizabeth Dole Gallery & Reading Room\, 2350 Petefish Drive\, Lawrence\, 66045\, United States
CATEGORIES:Exhibit
ATTACH;FMTTYPE=image/png:https://doleinstitute.org/wp-content/uploads/2021/04/rLca3DEU-446x590-1-e1621716855423.png
END:VEVENT
END:VCALENDAR