BEGIN:VCALENDAR
VERSION:2.0
PRODID:-//Dole Institute - ECPv6.15.17.1//NONSGML v1.0//EN
CALSCALE:GREGORIAN
METHOD:PUBLISH
X-ORIGINAL-URL:https://doleinstitute.org
X-WR-CALDESC:Events for Dole Institute
REFRESH-INTERVAL;VALUE=DURATION:PT1H
X-Robots-Tag:noindex
X-PUBLISHED-TTL:PT1H
BEGIN:VTIMEZONE
TZID:America/Chicago
BEGIN:DAYLIGHT
TZOFFSETFROM:-0600
TZOFFSETTO:-0500
TZNAME:CDT
DTSTART:20230312T080000
END:DAYLIGHT
BEGIN:STANDARD
TZOFFSETFROM:-0500
TZOFFSETTO:-0600
TZNAME:CST
DTSTART:20231105T070000
END:STANDARD
BEGIN:DAYLIGHT
TZOFFSETFROM:-0600
TZOFFSETTO:-0500
TZNAME:CDT
DTSTART:20240310T080000
END:DAYLIGHT
BEGIN:STANDARD
TZOFFSETFROM:-0500
TZOFFSETTO:-0600
TZNAME:CST
DTSTART:20241103T070000
END:STANDARD
BEGIN:DAYLIGHT
TZOFFSETFROM:-0600
TZOFFSETTO:-0500
TZNAME:CDT
DTSTART:20250309T080000
END:DAYLIGHT
BEGIN:STANDARD
TZOFFSETFROM:-0500
TZOFFSETTO:-0600
TZNAME:CST
DTSTART:20251102T070000
END:STANDARD
END:VTIMEZONE
BEGIN:VEVENT
DTSTART;TZID=America/Chicago:20240403T150000
DTEND;TZID=America/Chicago:20240403T161500
DTSTAMP:20260421T195207
CREATED:20240116T222801Z
LAST-MODIFIED:20241110T214355Z
UID:4947-1712156400-1712160900@doleinstitute.org
SUMMARY:World Leaders in Wartime: King Henry II
DESCRIPTION:King Henry II of England (reigned 1154-1189) was the most powerful European monarch of his day\, husband to Eleanor of Aquitaine\, and father to two successors: Richard the Lionheart and King John. Over the course of 35 years\, he successfully warred against neighbors in the Isles and on the Continent\, expanding his domains to create the so-called “Angevin Empire.” This talk will outline Henry’s military career and examine the breadth\, depth\, consequences\, and legacy of his conquests. \nJohn D. Hosler (Ph.D. University of Delaware) is a Professor of Military History at the Command and General Staff College. An expert in the history of the Middle Ages\, he studies conflict in medieval Europe and the Near East. Among his various books are Henry II: a Medieval Soldier at War\, 1147-1189 (Brill\, 2007)\, Jerusalem Falls: Seven Centuries of War and Peace (Yale UP\, 2022)\, and The Siege of Acre\, 1189-1191 (Yale UP\, 2018)\, which was named a Financial Times and Time Literary Supplement Book of the Year. \nThe Ft. Leavenworth Series\nThe Ft. Leavenworth Series is an annual roster of lectures focusing on significant historical events\, usually with an emphasis on military history. Each lecture is presented by faculty from the United States Army Command and General Staff College in Ft. Leavenworth\, Kansas. Established by General William Tecumseh Sherman in 1881\, the CGSC is the graduate college for U.S. Army and sister service officers. The esteemed faculty and guests of the CGSC provide unique and captivating insights into the history of military conflict from the ancient to the modern ages at the Dole Institute of Politics. \n  \n\n  \nThe opinions expressed herein are those of the individual and do not necessarily represent the views of the U.S. Army Command and General Staff College or any other governmental agency.
URL:https://doleinstitute.org/event/world-leaders-in-wartime-king-henry-ii/
LOCATION:The Dole Institute of Politics\, 2350 Petefish Drive\, Lawrence\, KS\, 66045\, United States
CATEGORIES:Ft. Leavenworth Series
ATTACH;FMTTYPE=image/png:https://doleinstitute.org/wp-content/uploads/2024/01/2-2.png
ORGANIZER;CN="The Dole Institute of Politics":MAILTO:doleinstitute@ku.edu
END:VEVENT
END:VCALENDAR