BEGIN:VCALENDAR
VERSION:2.0
PRODID:-//Dole Institute - ECPv6.15.17.1//NONSGML v1.0//EN
CALSCALE:GREGORIAN
METHOD:PUBLISH
X-ORIGINAL-URL:https://doleinstitute.org
X-WR-CALDESC:Events for Dole Institute
REFRESH-INTERVAL;VALUE=DURATION:PT1H
X-Robots-Tag:noindex
X-PUBLISHED-TTL:PT1H
BEGIN:VTIMEZONE
TZID:America/Chicago
BEGIN:DAYLIGHT
TZOFFSETFROM:-0600
TZOFFSETTO:-0500
TZNAME:CDT
DTSTART:20230312T080000
END:DAYLIGHT
BEGIN:STANDARD
TZOFFSETFROM:-0500
TZOFFSETTO:-0600
TZNAME:CST
DTSTART:20231105T070000
END:STANDARD
BEGIN:DAYLIGHT
TZOFFSETFROM:-0600
TZOFFSETTO:-0500
TZNAME:CDT
DTSTART:20240310T080000
END:DAYLIGHT
BEGIN:STANDARD
TZOFFSETFROM:-0500
TZOFFSETTO:-0600
TZNAME:CST
DTSTART:20241103T070000
END:STANDARD
BEGIN:DAYLIGHT
TZOFFSETFROM:-0600
TZOFFSETTO:-0500
TZNAME:CDT
DTSTART:20250309T080000
END:DAYLIGHT
BEGIN:STANDARD
TZOFFSETFROM:-0500
TZOFFSETTO:-0600
TZNAME:CST
DTSTART:20251102T070000
END:STANDARD
END:VTIMEZONE
BEGIN:VEVENT
DTSTART;TZID=America/Chicago:20241002T150000
DTEND;TZID=America/Chicago:20241002T161500
DTSTAMP:20260421T091212
CREATED:20240307T180323Z
LAST-MODIFIED:20241110T214548Z
UID:5436-1727881200-1727885700@doleinstitute.org
SUMMARY:World Leaders in Wartime: Vladimir Putin
DESCRIPTION:On February 24\, 2022 Russian military forces invaded Ukraine under orders from Russian President Valdimir Putin.  This was the largest military operation in Europe since the end of the Second World War. This lecture will focus on Putin\, his wartime leadership\, and the status of the war in Ukraine. \nDr. Sean N. Kalic is a Cold War historian. He lectures and publishes widely on topics such as U.S. space policy\, the Cold War\, the post-Cold War security environment\, and transnational terrorism. Prior to CGSC\, he taught at Youngstown State University\, Kansas State University\, and Norwich University.  He has presented lectures for the U.S. Naval War College’s Fleet Seminar Program\, The Slovenian General Staff\, The Slovenian Command and General Staff College\, The U.S. Army’s Futures Command\, as well as numerous international conferences. Currently\, he is a Professor in the Department of Military History at the US Army Command and General Staff College where he has taught since 2004. \nHis significant publications include Combating a Modern Hydra: Al Qaeda and the Global War on Terrorism (2005); Thinking about War: Past\, Present and Future (2011); US Presidents and the Militarization of Space\, 1946-1967 (2012); The Russian Revolution and Russian Civil War: An Essential Reference (2017); and Spies: The U.S. And Russian Espionage from the Cold War to the 21st Century (2019). U.S. President During War Time: A History of Leadership (2023). \nThe Ft. Leavenworth Series is an annual roster of lectures focusing on significant historical events\, usually with an emphasis on military history. Each lecture is presented by faculty from the United States Army Command and General Staff College in Ft. Leavenworth\, Kansas. Established by General William Tecumseh Sherman in 1881\, the CGSC is the graduate college for U.S. Army and sister service officers. The esteemed faculty and guests of the CGSC provide unique and captivating insights into the history of military conflict from the ancient to the modern ages at the Dole Institute of Politics. \n  \n\n  \nThe opinions expressed herein are those of the individual and do not necessarily represent the views of the U.S. Army Command and General Staff College or any other governmental agency.
URL:https://doleinstitute.org/event/world-leaders-in-wartime-vladimir-putin/
LOCATION:The Dole Institute of Politics\, 2350 Petefish Drive\, Lawrence\, KS\, 66045\, United States
CATEGORIES:Ft. Leavenworth Series
ATTACH;FMTTYPE=image/png:https://doleinstitute.org/wp-content/uploads/2024/03/9.png
ORGANIZER;CN="The Dole Institute of Politics":MAILTO:doleinstitute@ku.edu
END:VEVENT
END:VCALENDAR