BEGIN:VCALENDAR
VERSION:2.0
PRODID:-//Dole Institute - ECPv6.15.17.1//NONSGML v1.0//EN
CALSCALE:GREGORIAN
METHOD:PUBLISH
X-WR-CALNAME:Dole Institute
X-ORIGINAL-URL:https://doleinstitute.org
X-WR-CALDESC:Events for Dole Institute
REFRESH-INTERVAL;VALUE=DURATION:PT1H
X-Robots-Tag:noindex
X-PUBLISHED-TTL:PT1H
BEGIN:VTIMEZONE
TZID:America/Chicago
BEGIN:DAYLIGHT
TZOFFSETFROM:-0600
TZOFFSETTO:-0500
TZNAME:CDT
DTSTART:20170312T080000
END:DAYLIGHT
BEGIN:STANDARD
TZOFFSETFROM:-0500
TZOFFSETTO:-0600
TZNAME:CST
DTSTART:20171105T070000
END:STANDARD
BEGIN:DAYLIGHT
TZOFFSETFROM:-0600
TZOFFSETTO:-0500
TZNAME:CDT
DTSTART:20180311T080000
END:DAYLIGHT
BEGIN:STANDARD
TZOFFSETFROM:-0500
TZOFFSETTO:-0600
TZNAME:CST
DTSTART:20181104T070000
END:STANDARD
BEGIN:DAYLIGHT
TZOFFSETFROM:-0600
TZOFFSETTO:-0500
TZNAME:CDT
DTSTART:20190310T080000
END:DAYLIGHT
BEGIN:STANDARD
TZOFFSETFROM:-0500
TZOFFSETTO:-0600
TZNAME:CST
DTSTART:20191103T070000
END:STANDARD
BEGIN:DAYLIGHT
TZOFFSETFROM:-0600
TZOFFSETTO:-0500
TZNAME:CDT
DTSTART:20200308T080000
END:DAYLIGHT
BEGIN:STANDARD
TZOFFSETFROM:-0500
TZOFFSETTO:-0600
TZNAME:CST
DTSTART:20201101T070000
END:STANDARD
BEGIN:DAYLIGHT
TZOFFSETFROM:-0600
TZOFFSETTO:-0500
TZNAME:CDT
DTSTART:20210314T080000
END:DAYLIGHT
BEGIN:STANDARD
TZOFFSETFROM:-0500
TZOFFSETTO:-0600
TZNAME:CST
DTSTART:20211107T070000
END:STANDARD
BEGIN:DAYLIGHT
TZOFFSETFROM:-0600
TZOFFSETTO:-0500
TZNAME:CDT
DTSTART:20220313T080000
END:DAYLIGHT
BEGIN:STANDARD
TZOFFSETFROM:-0500
TZOFFSETTO:-0600
TZNAME:CST
DTSTART:20221106T070000
END:STANDARD
BEGIN:DAYLIGHT
TZOFFSETFROM:-0600
TZOFFSETTO:-0500
TZNAME:CDT
DTSTART:20230312T080000
END:DAYLIGHT
BEGIN:STANDARD
TZOFFSETFROM:-0500
TZOFFSETTO:-0600
TZNAME:CST
DTSTART:20231105T070000
END:STANDARD
BEGIN:DAYLIGHT
TZOFFSETFROM:-0600
TZOFFSETTO:-0500
TZNAME:CDT
DTSTART:20240310T080000
END:DAYLIGHT
BEGIN:STANDARD
TZOFFSETFROM:-0500
TZOFFSETTO:-0600
TZNAME:CST
DTSTART:20241103T070000
END:STANDARD
END:VTIMEZONE
BEGIN:VEVENT
DTSTART;TZID=America/Chicago:20230221T190000
DTEND;TZID=America/Chicago:20230221T201500
DTSTAMP:20260421T055629
CREATED:20230125T173848Z
LAST-MODIFIED:20230125T184436Z
UID:3518-1677006000-1677010500@doleinstitute.org
SUMMARY:An Evening with NPR's Juana Summers
DESCRIPTION:Join NPR’s All Things Considered Host Juana Summers for a discussion on her remarkable career\, her experiences covering race and politics in today’s climate\, and the future of journalism.  \nJuana Summers is a co-host of NPR’s All Things Considered\, alongside Ailsa Chang\, Ari Shapiro and Mary Louise Kelly. She joined All Things Considered in June 2022. Summers previously spent more than a decade covering national politics\, most recently as NPR’s political correspondent covering race\, justice and politics. She covered the 2012\, 2016 and 2020 presidential elections\, and has also previously covered Congress for NPR. Her work has appeared in a variety of publications across multiple platforms\, including Politico\, CNN\, Mashable and The Associated Press.  \nIn 2016\, Summers was a fellow at the Georgetown University Institute of Politics and Public Service.\nShe got her start in public radio at KBIA in Columbia on the campus of the University of Missouri. She is a graduate of the Missouri School of Journalism\, and is originally from Kansas City\, Missouri. \nThe Robert J. Dole Institute of Politics is dedicated to promoting political and civic participation as well as civil discourse in a bipartisan\, philosophically balanced manner. It is located on KU’s West Campus and houses the Dole Archive and Special Collections. Through its robust public programming\, congressional archive\, and museum\, the Dole Institute strives to celebrate public service and the legacies of US Senators Bob Dole and Elizabeth Dole. \nThis event is co-sponsored with Kansas Public Radio.
URL:https://doleinstitute.org/event/an-evening-with-nprs-juana-summers/
LOCATION:The Dole Institute of Politics\, 2350 Petefish Drive\, Lawrence\, KS\, 66045\, United States
CATEGORIES:Journalism and Politics Lecture
ATTACH;FMTTYPE=image/png:https://doleinstitute.org/wp-content/uploads/2023/01/KPR-graphic.png
END:VEVENT
BEGIN:VEVENT
DTSTART;TZID=America/Chicago:20211006T190000
DTEND;TZID=America/Chicago:20211006T210000
DTSTAMP:20260421T055629
CREATED:20211006T142052Z
LAST-MODIFIED:20220713T213240Z
UID:1094-1633546800-1633554000@doleinstitute.org
SUMMARY:Bob Dole: A Life in Public Service
DESCRIPTION:2021 Journalism & Politics Lecture\nBob Dole: A Life in Public Service\nWednesday\, October 6\, 2021 | 7 p.m.\nThis year marks 25 years since Senator Bob Dole left the United States Senate. In honor of this important milestone\, the University Daily Kansan is releasing a multi-page feature on Senator Dole and his life in public service. Join us to hear from student journalists who led the project. \nStef Manchen\, UDK editor; Carly Johnson\, UDK managing editor; and Blake Ullmann\, UDK news editor\, will engage in a panel discussion about the project highlighting Senator Dole. Copies of the special edition UDK will be available at the event. \nJoin us in person or livestream the event on our YouTube channel. Event cosponsored by KU’s William Allen White School of Journalism & Mass Communications.
URL:https://doleinstitute.org/event/2021-journalism-politics-lecture/
LOCATION:The Dole Institute of Politics\, 2350 Petefish Drive\, Lawrence\, KS\, 66045\, United States
CATEGORIES:Journalism and Politics Lecture
ATTACH;FMTTYPE=image/png:https://doleinstitute.org/wp-content/uploads/2021/10/Journalism-and-Politics-Lecture-The-Future-of-Journalism-e1633530109289.png
ORGANIZER;CN="The Dole Institute of Politics":MAILTO:doleinstitute@ku.edu
END:VEVENT
BEGIN:VEVENT
DTSTART;TZID=America/Chicago:20200909T000000
DTEND;TZID=America/Chicago:20200909T000000
DTSTAMP:20260421T055629
CREATED:20220106T222547Z
LAST-MODIFIED:20220107T155001Z
UID:1535-1599609600-1599609600@doleinstitute.org
SUMMARY:Francesca Chambers and MJ Lee
DESCRIPTION:As we head into what promises to be a highly contentious election season\, journalism has never been more vitally important. However\, the media landscape is undergoing turbulent change with older media giving way to social media. Join CNN Political Correspondent MJ Lee and McClatchy White House Correspondent and KU graduate Francesca Chambers as they discuss the 2020 elections and the state of journalism in America. This event is co-sponsored by the KU Journalism and School and the Political Science Department. \nThis special program will be live-streamed to the institute’s YouTube channel and to its website\, www.doleinstitute.org. Due to continuing concerns regarding the novel coronavirus pandemic\, the program will only be available online. Follow the Dole Institute on Facebook\, Instagram\, or Twitter for updates regarding this and future programming. \nFrancesca Chambers is a White House Correspondent for McClatchy. She previously held the position of Senior White House Correspondent at DailyMail.com and its Emmy-winning\, syndicated newsmagazine DailyMailTV. She is a proud graduate of the William Allen White School of Journalism and Mass Communications at the University of Kansas\, from which she also has a BA in political science. \nMJ Lee is a correspondent for CNN covering politics\, campaigns\, and national breaking news stories. She is currently covering the 2020 presidential elections. Before joining CNN\, Lee was a finance and politics reporter at Politico in Washington\, DC. She was born in South Korea and grew up in Hong Kong. She has a bachelor’s degree in government and Chinese from Georgetown University. \n 
URL:https://doleinstitute.org/event/francesca-chambers-and-mj-lee/
CATEGORIES:Journalism and Politics Lecture
END:VEVENT
BEGIN:VEVENT
DTSTART;TZID=America/Chicago:20191113T000000
DTEND;TZID=America/Chicago:20191113T000000
DTSTAMP:20260421T055629
CREATED:20210521T210217Z
LAST-MODIFIED:20210521T210217Z
UID:845-1573603200-1573603200@doleinstitute.org
SUMMARY:The Evolution of TV News
DESCRIPTION:A 2018 Pew Research Center survey reminds us that television continues to outpace online\, radio and print outlets as the preferred news source for American adults. Once dominated by three networks\, the rise of cable news has dramatically altered the landscape of TV journalism and political coverage. Join consultants and lecturers Michael Cascio and Ed Hersh for a discussion of how television news has evolved\, challenges facing today’s outlets and what role TV journalists play in our political arena.
URL:https://doleinstitute.org/event/the-evolution-of-tv-news/
CATEGORIES:Journalism and Politics Lecture
END:VEVENT
BEGIN:VEVENT
DTSTART;TZID=America/Chicago:20180911T000000
DTEND;TZID=America/Chicago:20180911T000000
DTSTAMP:20260421T055629
CREATED:20210521T205917Z
LAST-MODIFIED:20210521T205917Z
UID:784-1536624000-1536624000@doleinstitute.org
SUMMARY:The Kansas Midterms
DESCRIPTION:The race to Election Day is heating up\, providing one of the state’s most fascinating midterm cycles in recent memory. Guests can get an inside look at many of the seats in play at the 2018 Journalism and Politics Lecture. A panel of Kansas journalists discuss how they cover the midterm elections\, highlight key races across the state and predict what might happen on Election Day. Panelists will include Mary Clarkin of the Hutchinson News\, Jim McLean of the Kansas News Service\, Caroline Sweeney of KCTV5 and Hunter Woodall of the Kansas City Star.
URL:https://doleinstitute.org/event/the-kansas-midterms/
CATEGORIES:Journalism and Politics Lecture
END:VEVENT
END:VCALENDAR