BEGIN:VCALENDAR
VERSION:2.0
PRODID:-//Dole Institute - ECPv6.15.17.1//NONSGML v1.0//EN
CALSCALE:GREGORIAN
METHOD:PUBLISH
X-WR-CALNAME:Dole Institute
X-ORIGINAL-URL:https://doleinstitute.org
X-WR-CALDESC:Events for Dole Institute
REFRESH-INTERVAL;VALUE=DURATION:PT1H
X-Robots-Tag:noindex
X-PUBLISHED-TTL:PT1H
BEGIN:VTIMEZONE
TZID:America/Chicago
BEGIN:DAYLIGHT
TZOFFSETFROM:-0600
TZOFFSETTO:-0500
TZNAME:CDT
DTSTART:20230312T080000
END:DAYLIGHT
BEGIN:STANDARD
TZOFFSETFROM:-0500
TZOFFSETTO:-0600
TZNAME:CST
DTSTART:20231105T070000
END:STANDARD
BEGIN:DAYLIGHT
TZOFFSETFROM:-0600
TZOFFSETTO:-0500
TZNAME:CDT
DTSTART:20240310T080000
END:DAYLIGHT
BEGIN:STANDARD
TZOFFSETFROM:-0500
TZOFFSETTO:-0600
TZNAME:CST
DTSTART:20241103T070000
END:STANDARD
BEGIN:DAYLIGHT
TZOFFSETFROM:-0600
TZOFFSETTO:-0500
TZNAME:CDT
DTSTART:20250309T080000
END:DAYLIGHT
BEGIN:STANDARD
TZOFFSETFROM:-0500
TZOFFSETTO:-0600
TZNAME:CST
DTSTART:20251102T070000
END:STANDARD
END:VTIMEZONE
BEGIN:VEVENT
DTSTART;VALUE=DATE:20240126
DTEND;VALUE=DATE:20240205
DTSTAMP:20260421T072610
CREATED:20240122T224542Z
LAST-MODIFIED:20240203T154347Z
UID:5028-1706227200-1707091199@doleinstitute.org
SUMMARY:Discover with Dole: Celebrate Kansas Day
DESCRIPTION:Celebrate Kansas Day all week long at the Dole Institute! Join us Friday\, January 26 – Sunday\, February 4\, with special open hours on Jan. 29 for a Kansas Day themed Discover with Dole. \nLearn about Kansas by making your own special Kansas postcard using historical examples from the Dole Archives\, explore the state seal and other Kansas symbols with coloring and crafts. Discover with Dole is the Dole Institute’s interactive\, kid-friendly themed program in the museum. All programs and events at the Dole Institute are free and open to the public.
URL:https://doleinstitute.org/event/discover-with-dole-celebrate-kansas-day/
LOCATION:The Dole Institute of Politics\, 2350 Petefish Drive\, Lawrence\, KS\, 66045\, United States
CATEGORIES:Museum Activities
ATTACH;FMTTYPE=image/png:https://doleinstitute.org/wp-content/uploads/2024/01/Kansas-Day_discover-with-dole.png
ORGANIZER;CN="The Dole Institute of Politics":MAILTO:doleinstitute@ku.edu
END:VEVENT
END:VCALENDAR