BEGIN:VCALENDAR
VERSION:2.0
PRODID:-//Dole Institute - ECPv6.15.17.1//NONSGML v1.0//EN
CALSCALE:GREGORIAN
METHOD:PUBLISH
X-ORIGINAL-URL:https://doleinstitute.org
X-WR-CALDESC:Events for Dole Institute
REFRESH-INTERVAL;VALUE=DURATION:PT1H
X-Robots-Tag:noindex
X-PUBLISHED-TTL:PT1H
BEGIN:VTIMEZONE
TZID:America/Chicago
BEGIN:DAYLIGHT
TZOFFSETFROM:-0600
TZOFFSETTO:-0500
TZNAME:CDT
DTSTART:20220313T080000
END:DAYLIGHT
BEGIN:STANDARD
TZOFFSETFROM:-0500
TZOFFSETTO:-0600
TZNAME:CST
DTSTART:20221106T070000
END:STANDARD
BEGIN:DAYLIGHT
TZOFFSETFROM:-0600
TZOFFSETTO:-0500
TZNAME:CDT
DTSTART:20230312T080000
END:DAYLIGHT
BEGIN:STANDARD
TZOFFSETFROM:-0500
TZOFFSETTO:-0600
TZNAME:CST
DTSTART:20231105T070000
END:STANDARD
BEGIN:DAYLIGHT
TZOFFSETFROM:-0600
TZOFFSETTO:-0500
TZNAME:CDT
DTSTART:20240310T080000
END:DAYLIGHT
BEGIN:STANDARD
TZOFFSETFROM:-0500
TZOFFSETTO:-0600
TZNAME:CST
DTSTART:20241103T070000
END:STANDARD
END:VTIMEZONE
BEGIN:VEVENT
DTSTART;TZID=America/Chicago:20231112T090000
DTEND;TZID=America/Chicago:20231112T120000
DTSTAMP:20260422T034147
CREATED:20230830T193940Z
LAST-MODIFIED:20230830T193940Z
UID:4190-1699779600-1699790400@doleinstitute.org
SUMMARY:KU Vets Day 5k
DESCRIPTION:The Robert J. Dole Institute of Politics is proud to be a Gold sponsor of the KU Vets Day 5k race\, hosted by the KU Student Veterans of America and the Veterans Alumni Network. \nThe annual KU Vets Day 5K\, hosted by the KU Student Veterans of America and the Veterans Alumni Network\, honors our past/present veterans and raises awareness of the roles veterans play in our university and community. The 5K begins and ends at Memorial Stadium\, traveling through the KU campus past KU’s war memorials. All  proceeds from the Vets Day 5K support KU Student Veterans of America chapter\, the KU Veterans Alumni Network and the Lt. Gen. William K. Jones Military-Affiliated Student Center. \nTo learn more about this race\, please visit the official KU Vets Day 5k race website.
URL:https://doleinstitute.org/event/ku-vets-day-5k/
LOCATION:David Booth Kansas Memorial Stadium\, 1101 Mississippi Street\, Lawrence\, KS\, 66045\, United States
CATEGORIES:Outreach Event
ATTACH;FMTTYPE=image/png:https://doleinstitute.org/wp-content/uploads/2023/08/KU-Vets-Day-5k-Card.png
END:VEVENT
END:VCALENDAR