BEGIN:VCALENDAR
VERSION:2.0
PRODID:-//Dole Institute - ECPv6.15.17.1//NONSGML v1.0//EN
CALSCALE:GREGORIAN
METHOD:PUBLISH
X-WR-CALNAME:Dole Institute
X-ORIGINAL-URL:https://doleinstitute.org
X-WR-CALDESC:Events for Dole Institute
REFRESH-INTERVAL;VALUE=DURATION:PT1H
X-Robots-Tag:noindex
X-PUBLISHED-TTL:PT1H
BEGIN:VTIMEZONE
TZID:America/Chicago
BEGIN:DAYLIGHT
TZOFFSETFROM:-0600
TZOFFSETTO:-0500
TZNAME:CDT
DTSTART:20230312T080000
END:DAYLIGHT
BEGIN:STANDARD
TZOFFSETFROM:-0500
TZOFFSETTO:-0600
TZNAME:CST
DTSTART:20231105T070000
END:STANDARD
BEGIN:DAYLIGHT
TZOFFSETFROM:-0600
TZOFFSETTO:-0500
TZNAME:CDT
DTSTART:20240310T080000
END:DAYLIGHT
BEGIN:STANDARD
TZOFFSETFROM:-0500
TZOFFSETTO:-0600
TZNAME:CST
DTSTART:20241103T070000
END:STANDARD
BEGIN:DAYLIGHT
TZOFFSETFROM:-0600
TZOFFSETTO:-0500
TZNAME:CDT
DTSTART:20250309T080000
END:DAYLIGHT
BEGIN:STANDARD
TZOFFSETFROM:-0500
TZOFFSETTO:-0600
TZNAME:CST
DTSTART:20251102T070000
END:STANDARD
END:VTIMEZONE
BEGIN:VEVENT
DTSTART;TZID=America/Chicago:20240330T100000
DTEND;TZID=America/Chicago:20240330T130000
DTSTAMP:20260421T212312
CREATED:20240214T222317Z
LAST-MODIFIED:20240304T211608Z
UID:5225-1711792800-1711803600@doleinstitute.org
SUMMARY:The 2024 Easter Egg Roll with Dole
DESCRIPTION:Come one\, come all\, for the Dole Institute’s Easter Egg Roll with Dole! Join us on Saturday\, March 30\, for a morning of family fun\, including a White House-style egg roll race\, egg hunt\, games\, crafts\, and more. The event is free and open to the public\, and will go on rain or shine. \n  \nLearn more about the event here. \n  \n \nThe 2024 Easter Egg Roll with Dole is sponsored by Walmart.org \n  \n \nSpecial thanks to our partners – Lawrence Public Library and the Lied Center of Kansas.
URL:https://doleinstitute.org/event/the-2024-easter-egg-roll-with-dole/
LOCATION:The Dole Institute of Politics\, 2350 Petefish Drive\, Lawrence\, KS\, 66045\, United States
CATEGORIES:Special Events
ATTACH;FMTTYPE=image/png:https://doleinstitute.org/wp-content/uploads/2024/02/Copy-of-EER_save-the-date_website.png
ORGANIZER;CN="The Dole Institute of Politics":MAILTO:doleinstitute@ku.edu
END:VEVENT
END:VCALENDAR