BEGIN:VCALENDAR
VERSION:2.0
PRODID:-//Dole Institute - ECPv6.15.17.1//NONSGML v1.0//EN
CALSCALE:GREGORIAN
METHOD:PUBLISH
X-ORIGINAL-URL:https://doleinstitute.org
X-WR-CALDESC:Events for Dole Institute
REFRESH-INTERVAL;VALUE=DURATION:PT1H
X-Robots-Tag:noindex
X-PUBLISHED-TTL:PT1H
BEGIN:VTIMEZONE
TZID:America/Chicago
BEGIN:DAYLIGHT
TZOFFSETFROM:-0600
TZOFFSETTO:-0500
TZNAME:CDT
DTSTART:20120311T080000
END:DAYLIGHT
BEGIN:STANDARD
TZOFFSETFROM:-0500
TZOFFSETTO:-0600
TZNAME:CST
DTSTART:20121104T070000
END:STANDARD
BEGIN:DAYLIGHT
TZOFFSETFROM:-0600
TZOFFSETTO:-0500
TZNAME:CDT
DTSTART:20130310T080000
END:DAYLIGHT
BEGIN:STANDARD
TZOFFSETFROM:-0500
TZOFFSETTO:-0600
TZNAME:CST
DTSTART:20131103T070000
END:STANDARD
BEGIN:DAYLIGHT
TZOFFSETFROM:-0600
TZOFFSETTO:-0500
TZNAME:CDT
DTSTART:20140309T080000
END:DAYLIGHT
BEGIN:STANDARD
TZOFFSETFROM:-0500
TZOFFSETTO:-0600
TZNAME:CST
DTSTART:20141102T070000
END:STANDARD
END:VTIMEZONE
BEGIN:VEVENT
DTSTART;TZID=America/Chicago:20130502T000000
DTEND;TZID=America/Chicago:20130502T000000
DTSTAMP:20260423T090022
CREATED:20220215T201155Z
LAST-MODIFIED:20220215T201155Z
UID:2087-1367452800-1367452800@doleinstitute.org
SUMMARY:Ike's Legacy: Brigadier General Carl Reddel
DESCRIPTION:Ike is a personal hero of Bob Dole’s\, and the Dole Institute was proud to honor President Eisenhower’s life and legacy with the annual Dole Lecture. Are you aware of the effort to honor IKE with a memorial on the national mall? Authorized in 1999 by an act of Congress\, the Commission seeks to build a memorial fitting this great American and Kansan. General Reddel will talk about what Eisenhower means to America\, as well as the status of building this national icon’s memorial.\nBrigadier General Carl Reddel is Executive Director of the Eisenhower Memorial Commission.
URL:https://doleinstitute.org/event/ikes-legacy-brigadier-general-carl-reddel/
CATEGORIES:Dole Lecture
END:VEVENT
END:VCALENDAR