BEGIN:VCALENDAR
VERSION:2.0
PRODID:-//Dole Institute - ECPv6.15.17.1//NONSGML v1.0//EN
CALSCALE:GREGORIAN
METHOD:PUBLISH
X-WR-CALNAME:Dole Institute
X-ORIGINAL-URL:https://doleinstitute.org
X-WR-CALDESC:Events for Dole Institute
REFRESH-INTERVAL;VALUE=DURATION:PT1H
X-Robots-Tag:noindex
X-PUBLISHED-TTL:PT1H
BEGIN:VTIMEZONE
TZID:America/Chicago
BEGIN:DAYLIGHT
TZOFFSETFROM:-0600
TZOFFSETTO:-0500
TZNAME:CDT
DTSTART:20240310T080000
END:DAYLIGHT
BEGIN:STANDARD
TZOFFSETFROM:-0500
TZOFFSETTO:-0600
TZNAME:CST
DTSTART:20241103T070000
END:STANDARD
BEGIN:DAYLIGHT
TZOFFSETFROM:-0600
TZOFFSETTO:-0500
TZNAME:CDT
DTSTART:20250309T080000
END:DAYLIGHT
BEGIN:STANDARD
TZOFFSETFROM:-0500
TZOFFSETTO:-0600
TZNAME:CST
DTSTART:20251102T070000
END:STANDARD
BEGIN:DAYLIGHT
TZOFFSETFROM:-0600
TZOFFSETTO:-0500
TZNAME:CDT
DTSTART:20260308T080000
END:DAYLIGHT
BEGIN:STANDARD
TZOFFSETFROM:-0500
TZOFFSETTO:-0600
TZNAME:CST
DTSTART:20261101T070000
END:STANDARD
BEGIN:DAYLIGHT
TZOFFSETFROM:-0600
TZOFFSETTO:-0500
TZNAME:CDT
DTSTART:20270314T080000
END:DAYLIGHT
BEGIN:STANDARD
TZOFFSETFROM:-0500
TZOFFSETTO:-0600
TZNAME:CST
DTSTART:20271107T070000
END:STANDARD
END:VTIMEZONE
BEGIN:VEVENT
DTSTART;VALUE=DATE:20250401
DTEND;VALUE=DATE:20260202
DTSTAMP:20260421T034147
CREATED:20250310T140025Z
LAST-MODIFIED:20260109T173627Z
UID:7885-1743465600-1769990399@doleinstitute.org
SUMMARY:Dole & Dr. K: A Story of Loss and Recovery Turned Advocacy for Armenia
DESCRIPTION:This special exhibit will be closing on February 1\, 2026\, to prepare for a new special exhibit. Make plans to visit the Dole Institute’s Museum & Galleries\, open Tuesday through Sunday from 12 p.m. to 4 p.m.\, by visiting our website. \n\nCan’t make it to see this exhibit? View the online exhibit on Dole Collections Online → \n\nA young Bob Dole\, searching for a fuller recovery from grave World War II injuries\, connected with Armenian surgeon Dr. Hampar Kelikian. Over the course of seven surgeries in seven years\, “Dr. K” shared his story of loss and renewal around the 1915 Armenian Genocide—inspiring Dole as he worked to reimagine his future and build a new life. \nKelikian’s lessons resonated with Dole in the decades following as he entered public service. Throughout his time in the U.S. Senate\, Dole championed Armenia\, including calling for official recognition of the Armenian Genocide – despite long odds and competing national interests. \nThis exhibit is based on the research of Michael Bobelian\, who served as the Dole Archives Fellow for Armenian Advocacy in 2018. Mr. Bobelian is the author of “Children of Armenia: A Forgotten Genocide and the Century-Long Struggle for Justice.”
URL:https://doleinstitute.org/event/dole-dr-k-a-story-of-loss-and-recovery-turned-advocacy-for-armenia/
LOCATION:The Dole Institute of Politics\, 2350 Petefish Drive\, Lawrence\, KS\, 66045\, United States
CATEGORIES:Exhibit
ATTACH;FMTTYPE=image/png:https://doleinstitute.org/wp-content/uploads/2025/03/dole-and-dr.-k_exhibit-title-cards_all-4.png
END:VEVENT
BEGIN:VEVENT
DTSTART;TZID=America/Chicago:20251203T150000
DTEND;TZID=America/Chicago:20251203T161500
DTSTAMP:20260421T034147
CREATED:20250113T150018Z
LAST-MODIFIED:20250725T141853Z
UID:7657-1764774000-1764778500@doleinstitute.org
SUMMARY:Desert Storm: High-Tech Wonders\, or Ingenuity and Elbow Grease?
DESCRIPTION:Desert Storm in January-February 1991 is known for its dazzling display of technological brilliance\, forecasting a so-called revolution in military affairs that promised the United States a cheap alternative to wars of the past.  The lop-sided victory over Iraqi forces in Kuwait in 1991 seemed to forecast a new American way of war that was cheap\, decisive\, and limited bloodshed—at least for American forces.  Showcasing high-tech weapon systems in a five-week air campaign which culminated with a 100-hour ground war\, the technology seemed overwhelming.  This talk examines the technology that went into the victory but asks whether this technology was as widespread as it appeared on television\, and what was the role of the post-Vietnam training revolution in leading to the overwhelming success. \nDr. Mark T. Gerges serves as the Deputy Director\, Department of Military History\, U.S. Army Command and General Staff College. He served twenty years in armor units\, taught history at the United States Military Academy at West Point and commanded a tank company during Operation Desert Storm.  He received his PhD from Florida State University and retired from the Army in 2004. He has taught at the U.S. Army Command and General Staff College since 2002\, both in uniform and as a civilian faculty member. \nThe Ft. Leavenworth Series is an annual roster of lectures focusing on significant historical events\, usually with an emphasis on military history. Each lecture is presented by faculty from the United States Army Command and General Staff College in Ft. Leavenworth\, Kansas. Established by General William Tecumseh Sherman in 1881\, the CGSC is the graduate college for U.S. Army and sister service officers. The esteemed faculty and guests of the CGSC provide unique and captivating insights into the history of military conflict from the ancient to the modern ages at the Dole Institute of Politics. \n  \n\n  \nThe opinions expressed herein are those of the individual and do not necessarily represent the views of the U.S. Army Command and General Staff College or any other governmental agency.
URL:https://doleinstitute.org/event/desert-storm-high-tech-wonders-or-ingenuity-and-elbow-grease/
LOCATION:The Dole Institute of Politics\, 2350 Petefish Drive\, Lawrence\, KS\, 66045\, United States
CATEGORIES:Ft. Leavenworth Series
ATTACH;FMTTYPE=image/png:https://doleinstitute.org/wp-content/uploads/2025/07/12.03_new.png
ORGANIZER;CN="The Dole Institute of Politics":MAILTO:doleinstitute@ku.edu
END:VEVENT
END:VCALENDAR