BEGIN:VCALENDAR
VERSION:2.0
PRODID:-//Dole Institute - ECPv6.15.17.1//NONSGML v1.0//EN
CALSCALE:GREGORIAN
METHOD:PUBLISH
X-ORIGINAL-URL:https://doleinstitute.org
X-WR-CALDESC:Events for Dole Institute
REFRESH-INTERVAL;VALUE=DURATION:PT1H
X-Robots-Tag:noindex
X-PUBLISHED-TTL:PT1H
BEGIN:VTIMEZONE
TZID:America/Chicago
BEGIN:DAYLIGHT
TZOFFSETFROM:-0600
TZOFFSETTO:-0500
TZNAME:CDT
DTSTART:20250309T080000
END:DAYLIGHT
BEGIN:STANDARD
TZOFFSETFROM:-0500
TZOFFSETTO:-0600
TZNAME:CST
DTSTART:20251102T070000
END:STANDARD
BEGIN:DAYLIGHT
TZOFFSETFROM:-0600
TZOFFSETTO:-0500
TZNAME:CDT
DTSTART:20260308T080000
END:DAYLIGHT
BEGIN:STANDARD
TZOFFSETFROM:-0500
TZOFFSETTO:-0600
TZNAME:CST
DTSTART:20261101T070000
END:STANDARD
BEGIN:DAYLIGHT
TZOFFSETFROM:-0600
TZOFFSETTO:-0500
TZNAME:CDT
DTSTART:20270314T080000
END:DAYLIGHT
BEGIN:STANDARD
TZOFFSETFROM:-0500
TZOFFSETTO:-0600
TZNAME:CST
DTSTART:20271107T070000
END:STANDARD
END:VTIMEZONE
BEGIN:VEVENT
DTSTART;VALUE=DATE:20260216
DTEND;VALUE=DATE:20260908
DTSTAMP:20260420T234842
CREATED:20260209T164209Z
LAST-MODIFIED:20260209T164209Z
UID:9032-1771200000-1788825599@doleinstitute.org
SUMMARY:America at 250 Special Exhibits
DESCRIPTION:Commemorate America at 250 with three special exhibits highlighting the Declaration of Independence\, Kansas\, and the last major commemoration of America’s founding. Experience these special exhibits starting Feb. 16\, on display in the Elizabeth Dole Gallery & Reading Room. \nDeclaration 1776: The Big Bang of Modern Democracy uses primary sources to illustrate how Americans and people across the world have been inspired by the Declaration of Independence in their pursuit of equality and self-determination. This special exhibit was developed by the Gilder Lehrman Institute of American History. \nSpirit of ’76 features original artifacts from the Dole Archives that highlight the 1976 Bicentennial celebrations\, which commemorated 200 years since the signing of the Declaration of Independence. \nKansas in 1776 provides insight into what the Kansas landscape looked like while the Founding Fathers penned the Declaration of Independence in 1776. This special exhibit was developed by Humanities Kansas. \n  \n \nThis exhibit is presented in partnership with Humanities Kansas
URL:https://doleinstitute.org/event/america-at-250-special-exhibits/
LOCATION:The Dole Institute of Politics\, 2350 Petefish Drive\, Lawrence\, KS\, 66045\, United States
CATEGORIES:Exhibit
ATTACH;FMTTYPE=image/png:https://doleinstitute.org/wp-content/uploads/2026/02/america-at-250-exhibits-2-3.png
ORGANIZER;CN="The Dole Institute of Politics":MAILTO:doleinstitute@ku.edu
END:VEVENT
BEGIN:VEVENT
DTSTART;TZID=America/Chicago:20260603T150000
DTEND;TZID=America/Chicago:20260603T160000
DTSTAMP:20260420T234842
CREATED:20251208T171452Z
LAST-MODIFIED:20260212T204114Z
UID:8741-1780498800-1780502400@doleinstitute.org
SUMMARY:Napoleon: The Man and the Method
DESCRIPTION:Napoleon remains a character of endless fascination\, even more than two centuries after his death.  The God of War\, as one biographer identified him\, conquered much of Europe before his ultimate downfall\, and is often counted with Alexander the Great and Caesar as one of the greatest military minds in human history.  This talk will discuss the personality behind the historical figure and examine the methods that enabled him to achieve what he did. \n  \n\n  \nDr. Jonathan Abel is an Associate Professor of Military History at the US Army Command and General Staff College\, where he teaches courses on French history as well as Greece and Rome and wargaming.  He received his PhD from the Military History Center at the University of North Texas in 2014\, and he is the author of several works on the eighteenth-century French army. \nThe Ft. Leavenworth Series is an annual roster of lectures focusing on significant historical events\, usually with an emphasis on military history. Each lecture is presented by faculty from the United States Army Command and General Staff College in Ft. Leavenworth\, Kansas. Established by General William Tecumseh Sherman in 1881\, the CGSC is the graduate college for U.S. Army and sister service officers. The esteemed faculty and guests of the CGSC provide unique and captivating insights into the history of military conflict from the ancient to the modern ages at the Dole Institute of Politics. \n  \n\n  \nThe opinions expressed herein are those of the individual and do not necessarily represent the views of the U.S. Army Command and General Staff College or any other governmental agency.
URL:https://doleinstitute.org/event/napoleon-the-man-and-the-method/
LOCATION:The Dole Institute of Politics\, 2350 Petefish Drive\, Lawrence\, KS\, 66045\, United States
CATEGORIES:Ft. Leavenworth Series
ATTACH;FMTTYPE=image/png:https://doleinstitute.org/wp-content/uploads/2025/12/6.3-abel.png
ORGANIZER;CN="The Dole Institute of Politics":MAILTO:doleinstitute@ku.edu
END:VEVENT
END:VCALENDAR