BEGIN:VCALENDAR
VERSION:2.0
PRODID:-//Dole Institute - ECPv6.15.17.1//NONSGML v1.0//EN
CALSCALE:GREGORIAN
METHOD:PUBLISH
X-WR-CALNAME:Dole Institute
X-ORIGINAL-URL:https://doleinstitute.org
X-WR-CALDESC:Events for Dole Institute
REFRESH-INTERVAL;VALUE=DURATION:PT1H
X-Robots-Tag:noindex
X-PUBLISHED-TTL:PT1H
BEGIN:VTIMEZONE
TZID:America/Chicago
BEGIN:DAYLIGHT
TZOFFSETFROM:-0600
TZOFFSETTO:-0500
TZNAME:CDT
DTSTART:20250309T080000
END:DAYLIGHT
BEGIN:STANDARD
TZOFFSETFROM:-0500
TZOFFSETTO:-0600
TZNAME:CST
DTSTART:20251102T070000
END:STANDARD
BEGIN:DAYLIGHT
TZOFFSETFROM:-0600
TZOFFSETTO:-0500
TZNAME:CDT
DTSTART:20260308T080000
END:DAYLIGHT
BEGIN:STANDARD
TZOFFSETFROM:-0500
TZOFFSETTO:-0600
TZNAME:CST
DTSTART:20261101T070000
END:STANDARD
BEGIN:DAYLIGHT
TZOFFSETFROM:-0600
TZOFFSETTO:-0500
TZNAME:CDT
DTSTART:20270314T080000
END:DAYLIGHT
BEGIN:STANDARD
TZOFFSETFROM:-0500
TZOFFSETTO:-0600
TZNAME:CST
DTSTART:20271107T070000
END:STANDARD
END:VTIMEZONE
BEGIN:VEVENT
DTSTART;TZID=America/Chicago:20261007T150000
DTEND;TZID=America/Chicago:20261007T160000
DTSTAMP:20260421T064842
CREATED:20251208T171452Z
LAST-MODIFIED:20260212T204249Z
UID:8744-1791385200-1791388800@doleinstitute.org
SUMMARY:Clausewitz\, Mao\, and Operational Art
DESCRIPTION:More information on this Ft. Leavenworth Series program is coming soon. Save the date to join us at the Dole Institute of Politics on the first Wednesday of each month at 3 p.m. All events will be available to stream live on our YouTube channel.\n  \n\n  \nMartin G. Clemis is an associate professor in the Department of Military History at the Command and General Staff College. He is the author of The Control War: The Struggle for South Vietnam\, 1968-1975 (University of Oklahoma Press\, 2018)\, and a contributing author in Beyond the Quagmire: New Interpretations of the Vietnam Conflict (University of North Texas Press\, 2019)\, Drawdowns: The American Way of Postwar (New York University Press\, 2017)\, and War and Geography: The Spatiality of Organized Mass Violence (Ferdinand Schoningh\, 2017). Martin has had articles published in Army History and Small Wars and Insurgencies. \nThe Ft. Leavenworth Series is an annual roster of lectures focusing on significant historical events\, usually with an emphasis on military history. Each lecture is presented by faculty from the United States Army Command and General Staff College in Ft. Leavenworth\, Kansas. Established by General William Tecumseh Sherman in 1881\, the CGSC is the graduate college for U.S. Army and sister service officers. The esteemed faculty and guests of the CGSC provide unique and captivating insights into the history of military conflict from the ancient to the modern ages at the Dole Institute of Politics. \n  \n\n  \nThe opinions expressed herein are those of the individual and do not necessarily represent the views of the U.S. Army Command and General Staff College or any other governmental agency.
URL:https://doleinstitute.org/event/clausewitz-mao-and-operational-art/
LOCATION:The Dole Institute of Politics\, 2350 Petefish Drive\, Lawrence\, KS\, 66045\, United States
CATEGORIES:Ft. Leavenworth Series
ATTACH;FMTTYPE=image/png:https://doleinstitute.org/wp-content/uploads/2025/12/10.7-clemis.png
ORGANIZER;CN="The Dole Institute of Politics":MAILTO:doleinstitute@ku.edu
END:VEVENT
END:VCALENDAR