BEGIN:VCALENDAR
VERSION:2.0
PRODID:-//Dole Institute - ECPv6.15.17.1//NONSGML v1.0//EN
CALSCALE:GREGORIAN
METHOD:PUBLISH
X-ORIGINAL-URL:https://doleinstitute.org
X-WR-CALDESC:Events for Dole Institute
REFRESH-INTERVAL;VALUE=DURATION:PT1H
X-Robots-Tag:noindex
X-PUBLISHED-TTL:PT1H
BEGIN:VTIMEZONE
TZID:America/Chicago
BEGIN:DAYLIGHT
TZOFFSETFROM:-0600
TZOFFSETTO:-0500
TZNAME:CDT
DTSTART:20180311T080000
END:DAYLIGHT
BEGIN:STANDARD
TZOFFSETFROM:-0500
TZOFFSETTO:-0600
TZNAME:CST
DTSTART:20181104T070000
END:STANDARD
BEGIN:DAYLIGHT
TZOFFSETFROM:-0600
TZOFFSETTO:-0500
TZNAME:CDT
DTSTART:20190310T080000
END:DAYLIGHT
BEGIN:STANDARD
TZOFFSETFROM:-0500
TZOFFSETTO:-0600
TZNAME:CST
DTSTART:20191103T070000
END:STANDARD
BEGIN:DAYLIGHT
TZOFFSETFROM:-0600
TZOFFSETTO:-0500
TZNAME:CDT
DTSTART:20200308T080000
END:DAYLIGHT
BEGIN:STANDARD
TZOFFSETFROM:-0500
TZOFFSETTO:-0600
TZNAME:CST
DTSTART:20201101T070000
END:STANDARD
END:VTIMEZONE
BEGIN:VEVENT
DTSTART;TZID=America/Chicago:20191119T000000
DTEND;TZID=America/Chicago:20191119T000000
DTSTAMP:20260425T145136
CREATED:20210521T210218Z
LAST-MODIFIED:20220208T201841Z
UID:847-1574121600-1574121600@doleinstitute.org
SUMMARY:Battle for the Marble Palace: The Forging of the Modern Supreme Court
DESCRIPTION:Author Michael Bobelian returns to the Dole Institute to explore a forgotten battle of 1968. Against a backdrop of the Vietnam War\, riots during the Democratic National Convention and the assassinations of Martin Luther King Jr. and Robert Kennedy\, Abe Fortas was nominated to be chief justice of the U.S. Supreme Court. The ultimately failed nomination would launch an all-out cultural war between the two major political parties — one that would determine the course of major cases for years to come. This program includes a book sale and signing with the author.
URL:https://doleinstitute.org/event/battle-for-the-marble-palace-the-forging-of-the-modern-supreme-court/
CATEGORIES:Dole Forum
END:VEVENT
END:VCALENDAR