BEGIN:VCALENDAR
VERSION:2.0
PRODID:-//Dole Institute - ECPv6.15.17.1//NONSGML v1.0//EN
CALSCALE:GREGORIAN
METHOD:PUBLISH
X-ORIGINAL-URL:https://doleinstitute.org
X-WR-CALDESC:Events for Dole Institute
REFRESH-INTERVAL;VALUE=DURATION:PT1H
X-Robots-Tag:noindex
X-PUBLISHED-TTL:PT1H
BEGIN:VTIMEZONE
TZID:America/Chicago
BEGIN:DAYLIGHT
TZOFFSETFROM:-0600
TZOFFSETTO:-0500
TZNAME:CDT
DTSTART:20220313T080000
END:DAYLIGHT
BEGIN:STANDARD
TZOFFSETFROM:-0500
TZOFFSETTO:-0600
TZNAME:CST
DTSTART:20221106T070000
END:STANDARD
BEGIN:DAYLIGHT
TZOFFSETFROM:-0600
TZOFFSETTO:-0500
TZNAME:CDT
DTSTART:20230312T080000
END:DAYLIGHT
BEGIN:STANDARD
TZOFFSETFROM:-0500
TZOFFSETTO:-0600
TZNAME:CST
DTSTART:20231105T070000
END:STANDARD
BEGIN:DAYLIGHT
TZOFFSETFROM:-0600
TZOFFSETTO:-0500
TZNAME:CDT
DTSTART:20240310T080000
END:DAYLIGHT
BEGIN:STANDARD
TZOFFSETFROM:-0500
TZOFFSETTO:-0600
TZNAME:CST
DTSTART:20241103T070000
END:STANDARD
END:VTIMEZONE
BEGIN:VEVENT
DTSTART;VALUE=DATE:20230905
DTEND;VALUE=DATE:20230918
DTSTAMP:20260421T072714
CREATED:20230817T203604Z
LAST-MODIFIED:20230817T211537Z
UID:4168-1693872000-1694995199@doleinstitute.org
SUMMARY:September 11\, 2001: The Day that Changed the World
DESCRIPTION:On display from September 5-17\, 2023 at the Dole Institute of Politics \nThe Dole Institute will have special hours on Monday\, September 11\, 2023. We will be open from 12 pm – 4 pm. \nThe Dole Institute of Politics will be displaying a special poster exhibit commemorating the anniversary of the September 11 attacks. “September 11: The Day that Changed the World” reviews the events of the day\, highlights personal experiences\, and invites reflections from all patrons. This exhibit was developed by the 9/11 Memorial Museum with support from the National Endowment for the Humanities. \nGuests can also view our permanent memorial in Hansen Hall\, featuring original beams from World Trade Center Tower One. These beams were salvaged and presented to the Dole Institute by Mayor Michael Bloomberg in appreciation for Senator Dole’s work with former President Bill Clinton to develop the Families of Freedom Scholarship Fund\, which helped fund the education for children of 9/11 victims.
URL:https://doleinstitute.org/event/exhibit-september-11-2001-the-day-that-changed-the-world-3/
LOCATION:The Dole Institute of Politics\, 2350 Petefish Drive\, Lawrence\, KS\, 66045\, United States
CATEGORIES:Exhibit
ATTACH;FMTTYPE=image/png:https://doleinstitute.org/wp-content/uploads/2023/08/911-Exhibit-Card-2.png
ORGANIZER;CN="The Dole Institute of Politics":MAILTO:doleinstitute@ku.edu
END:VEVENT
END:VCALENDAR