BEGIN:VCALENDAR
VERSION:2.0
PRODID:-//Dole Institute - ECPv6.15.17.1//NONSGML v1.0//EN
CALSCALE:GREGORIAN
METHOD:PUBLISH
X-ORIGINAL-URL:https://doleinstitute.org
X-WR-CALDESC:Events for Dole Institute
REFRESH-INTERVAL;VALUE=DURATION:PT1H
X-Robots-Tag:noindex
X-PUBLISHED-TTL:PT1H
BEGIN:VTIMEZONE
TZID:America/Chicago
BEGIN:DAYLIGHT
TZOFFSETFROM:-0600
TZOFFSETTO:-0500
TZNAME:CDT
DTSTART:20230312T080000
END:DAYLIGHT
BEGIN:STANDARD
TZOFFSETFROM:-0500
TZOFFSETTO:-0600
TZNAME:CST
DTSTART:20231105T070000
END:STANDARD
BEGIN:DAYLIGHT
TZOFFSETFROM:-0600
TZOFFSETTO:-0500
TZNAME:CDT
DTSTART:20240310T080000
END:DAYLIGHT
BEGIN:STANDARD
TZOFFSETFROM:-0500
TZOFFSETTO:-0600
TZNAME:CST
DTSTART:20241103T070000
END:STANDARD
BEGIN:DAYLIGHT
TZOFFSETFROM:-0600
TZOFFSETTO:-0500
TZNAME:CDT
DTSTART:20250309T080000
END:DAYLIGHT
BEGIN:STANDARD
TZOFFSETFROM:-0500
TZOFFSETTO:-0600
TZNAME:CST
DTSTART:20251102T070000
END:STANDARD
END:VTIMEZONE
BEGIN:VEVENT
DTSTART;TZID=America/Chicago:20241003T190000
DTEND;TZID=America/Chicago:20241003T201500
DTSTAMP:20260421T055532
CREATED:20240814T134551Z
LAST-MODIFIED:20240827T202929Z
UID:6842-1727982000-1727986500@doleinstitute.org
SUMMARY:The Candidates and America's Role in the World
DESCRIPTION:With rising tensions in the Middle East\, the ongoing conflict in Ukraine\, and continuous challenges on the international stage by China and Russia\, all eyes are focused on the candidates in this year’s elections\, and how they view America’s role in the world. Dole Institute Visiting Fellow Jerry Seib will be joined by former Senator and Secretary of Defense Chuck Hagel to discuss where the candidates stand on the issues that impact our standing on the world stage. \n  \n\n  \nJerry Seib has been a journalist with The Wall Street Journal for almost 45 years. He served as the Journal’s Executive Washington Editor and wrote the weekly “Capital Journal” column for 29 years. He also reported from the Middle East for the Journal in the mid-1980s\, covered the White House\, has moderated three presidential debates\, and interviewed every president since Ronald Reagan. \n  \nChuck Hagel was the 24th Secretary of Defense\, serving from February 2013 to February 2015. He is the only Vietnam veteran and the first enlisted combat veteran to serve as Secretary of Defense. Hagel served two terms in the United States Senate (1997-2009) representing the state of Nebraska. While in the Senate\, he chaired and served on numerous committees\, including the Foreign Relations and Intelligence committees\, and Banking Committee’s subcommittees. He also served as the Chair of the Congressional-Executive Commission on China and the Senate Climate Change Observer Group. Prior to his election to the U.S. Senate\, Hagel was president of McCarthy & Company\, an investment banking firm in Omaha. He also served as Deputy Administrator of the Veterans Administration under President Ronald Reagan. Hagel is a graduate of the University of Nebraska at Omaha\, and has two children with his wife\, Lilibet.
URL:https://doleinstitute.org/event/the-candidates-and-americas-role-in-the-world/
LOCATION:The Dole Institute of Politics\, 2350 Petefish Drive\, Lawrence\, KS\, 66045\, United States
CATEGORIES:Dole Forum
ATTACH;FMTTYPE=image/png:https://doleinstitute.org/wp-content/uploads/2024/08/jerry_foriegn-affairs_websiteyt-1.png
ORGANIZER;CN="The Dole Institute of Politics":MAILTO:doleinstitute@ku.edu
END:VEVENT
BEGIN:VEVENT
DTSTART;TZID=America/Chicago:20241017T190000
DTEND;TZID=America/Chicago:20241017T201500
DTSTAMP:20260421T055532
CREATED:20240814T134557Z
LAST-MODIFIED:20240828T201139Z
UID:6850-1729191600-1729196100@doleinstitute.org
SUMMARY:The Growing Divide: Political Realignment in the Modern Era
DESCRIPTION:As this year’s momentous election campaign nears its climax\, it is illustrating anew how the Democratic and Republican parties are undergoing profound ideological and demographic changes. Dole Institute Visiting Fellow Jerry Seib will be joined by Karen Tumulty\, an associate editor and columnist at The Washington Post\, for an overview of the campaign and how it is reshaping the nation’s political landscape for years to come. \n  \n\n  \nJerry Seib has been a journalist with The Wall Street Journal for almost 45 years. He served as the Journal’s Executive Washington Editor and wrote the weekly “Capital Journal” column for 29 years. He also reported from the Middle East for the Journal in the mid-1980s\, covered the White House\, has moderated three presidential debates\, and interviewed every president since Ronald Reagan. \n  \nKaren Tumulty is an associate editor and columnist for The Post. In her previous role as a national political correspondent for the newspaper\, she received the Toner Prize for Excellence in Political Reporting. She joined The Post in 2010 from Time magazine\, where she had held the same title. During her more than 15 years at Time\, Tumulty wrote or co-wrote more than three dozen cover stories. She also held positions with Time as congressional correspondent and White House correspondent. Before joining Time in 1994\, Tumulty spent 14 years at the Los Angeles Times\, where she covered a wide variety of beats. During her time there\, she reported on Congress\, business\, energy and economics from Los Angeles\, New York and D.C. Tumulty is a native of San Antonio\, where she began her career at the now-defunct San Antonio Light. Tumulty holds a bachelor of journalism from the University of Texas at Austin and an MBA from Harvard Business School.
URL:https://doleinstitute.org/event/the-growing-divide-political-realignment-in-the-modern-era/
LOCATION:The Dole Institute of Politics\, 2350 Petefish Drive\, Lawrence\, KS\, 66045\, United States
CATEGORIES:Dole Forum
ATTACH;FMTTYPE=image/png:https://doleinstitute.org/wp-content/uploads/2024/08/jerry_parties_websiteyt-1.png
ORGANIZER;CN="The Dole Institute of Politics":MAILTO:doleinstitute@ku.edu
END:VEVENT
END:VCALENDAR